BEGIN:VCALENDAR
VERSION:2.0
PRODID:-//ChamberMaster//Event Calendar 2.0//EN
METHOD:PUBLISH
X-PUBLISHED-TTL:P3D
REFRESH-INTERVAL:P3D
CALSCALE:GREGORIAN
BEGIN:VEVENT
DTSTART:20150629T190000Z
DTEND:20150629T230000Z
X-MICROSOFT-CDO-ALLDAYEVENT:FALSE
SUMMARY:Valenti's Happy Hour
DESCRIPTION:Valenti's Happy Hour!  Come and enjoy Happy Hour at our Bar!  Fabulou Food!  Excellent Bar Staff!  Would love to have you!  Need a group?  Call Linda Valenti and she will set you up!
X-ALT-DESC;FMTTYPE=text/html:Valenti&#39\;s Happy Hour!&nbsp\; Come and enjoy Happy Hour at our Bar!&nbsp\; Fabulou Food!&nbsp\; Excellent Bar Staff!&nbsp\; Would love to have you!&nbsp\; Need a group?&nbsp\; Call Linda Valenti and she will set you up!
LOCATION:3365 Richmond Road Suite 130
UID:e.368.3756
SEQUENCE:3
DTSTAMP:20260419T213320Z
URL:https://public.beachwood.org/events/details/valenti-s-happy-hour-06-29-2015-3756
END:VEVENT

END:VCALENDAR
