BEGIN:VCALENDAR
VERSION:2.0
PRODID:-//ChamberMaster//Event Calendar 2.0//EN
METHOD:PUBLISH
X-PUBLISHED-TTL:P3D
REFRESH-INTERVAL:P3D
CALSCALE:GREGORIAN
BEGIN:VEVENT
DTSTART:20170430T160000Z
DTEND:20170430T190000Z
X-MICROSOFT-CDO-ALLDAYEVENT:FALSE
SUMMARY:Ursuline College Innovations '17 Fashion Show
DESCRIPTION:Join .the Beachwood Arts Council for a fashion show of original designs created by students in the Ursuline College Fashion Department.\n\n\n\nBefore the show\, we will have a private\, behind-the-scenes tour of the Fashion Department and its' historic costume collection.\n\n\n\nAfter the show\, refreshments will be served and there will be a vendors' boutique.\n\n\n\nWe will meet at Ursuline College no later than 11:45 am. Parking is free. $15/BAC members\; $20/non-members\; $5/students.\n\n\n\nREGISTRATION DEADLINE: April 1\, 2017 FEE MUST BE PAID IN ADVANCE. To register\, please call 216-595-3400 and leave you name and number and a volunteer will get back to you shortly.
X-ALT-DESC;FMTTYPE=text/html:Join .the Beachwood Arts Council for a fashion show of original designs created by students in the Ursuline College Fashion Department.<br />\n<br />\nBefore the show\, we will have a private\, behind-the-scenes tour of the Fashion Department and its&#39\; historic costume collection.<br />\n<br />\nAfter the show\, refreshments will be served and there will be a vendors&#39\; boutique.<br />\n<br />\nWe will meet at Ursuline College no later than 11:45 am. Parking is free. $15/BAC members\; $20/non-members\; $5/students.<br />\n<br />\nREGISTRATION DEADLINE: April 1\, 2017 FEE MUST BE PAID IN ADVANCE. To register\, please call 216-595-3400 and leave you name and number and a volunteer will get back to you shortly.
LOCATION:Ursuline College ?Sister Diana Stano U.S.U. Athletic Center 2550 Lander Road Pepper Pike
UID:e.368.6290
SEQUENCE:3
DTSTAMP:20260421T040326Z
URL:https://public.beachwood.org/events/details/ursuline-college-innovations-17-fashion-show-6290
END:VEVENT

END:VCALENDAR
