BEGIN:VCALENDAR
VERSION:2.0
PRODID:-//ChamberMaster//Event Calendar 2.0//EN
METHOD:PUBLISH
X-PUBLISHED-TTL:P3D
REFRESH-INTERVAL:P3D
CALSCALE:GREGORIAN
BEGIN:VEVENT
DTSTART:20191022T210000Z
DTEND:20191023T000000Z
X-MICROSOFT-CDO-ALLDAYEVENT:FALSE
SUMMARY:Turning Point - The Quest for a Cure
DESCRIPTION:Join us for an exclusive screening and panel discussion of the new documentary\, Turning Point.\n\n \n\nWhere will the future of Alzheimer's research take us? BrightFocus Foundation\, a leading funder of Alzheimer's research around the world\, presents an exclusive screening and panel discussion of the new documentary\, Turning Point. Acclaimed filmmaker and director James Keach (Walk the Line\, Glen Campbell I'll Be Me) follows a team of researchers on the front lines of Alzheimer's research and captures the raw disappointment and renewed hope of those working to find a cure for this incurable disease affecting nearly 5.7 million Americans.\n\n \n\n5:00 pm: Doors open and snacks will be available\n\n5:45 pm - 7:05 pm: Turning Point Film Screening\n\n7:05 pm: 10 minute stretch before panel begins\n\n7:15 pm - 8:00 pm: Panel Discussion and Q&A
X-ALT-DESC;FMTTYPE=text/html:<strong>Join us for an exclusive screening and panel discussion of the new documentary\, Turning Point.</strong><br />\n&nbsp\;\n<div>\n<p>Where will the future of Alzheimer&rsquo\;s research take us? BrightFocus Foundation\, a leading funder of Alzheimer&rsquo\;s research around the world\, presents an exclusive screening and panel discussion of the new documentary\,&nbsp\;<em>Turning Point</em>. Acclaimed filmmaker and director James Keach (<em>Walk the Line\, Glen Campbell&hellip\;I&rsquo\;ll Be Me</em>) follows a team of researchers on the front lines of Alzheimer&rsquo\;s research and captures the raw disappointment and renewed hope of those working to find a cure for this incurable disease affecting nearly 5.7 million Americans.</p>\n\n<p>&nbsp\;</p>\n\n<p>5:00 pm: Doors open and snacks will be available</p>\n\n<p>5:45 pm - 7:05 pm:&nbsp\;<em>Turning Point</em>&nbsp\;Film Screening</p>\n\n<p>7:05 pm: 10 minute stretch before panel begins</p>\n\n<p>7:15 pm - 8:00 pm: Panel Discussion and Q&amp\;A</p>\n</div>\n\n<div>&nbsp\;</div>\n
LOCATION:Maltz Museum of Jewish Heritage 2929 Richmond Road Beachwood\, OH 44122
UID:e.368.8181
SEQUENCE:3
DTSTAMP:20260420T145645Z
URL:https://public.beachwood.org/events/details/turning-point-the-quest-for-a-cure-8181
END:VEVENT

END:VCALENDAR
