BEGIN:VCALENDAR
VERSION:2.0
PRODID:-//ChamberMaster//Event Calendar 2.0//EN
METHOD:PUBLISH
X-PUBLISHED-TTL:P3D
REFRESH-INTERVAL:P3D
CALSCALE:GREGORIAN
BEGIN:VEVENT
DTSTART:20081106T163000Z
DTEND:20081106T183000Z
X-MICROSOFT-CDO-ALLDAYEVENT:FALSE
SUMMARY:Tune Into the Changing Media
DESCRIPTION:Executive Caterers\nCorporate Club at Landerhaven Series \n\nTune Into the Changing Media	\nThursday\, November 6\, 2008\n11:30 am Registration * 12 Noon Program & Luncheon\n\nBerry Pinney\, Director of Engineering\, NewsChannel 5\nMark Dodosh\, Editor\, Crain?s Cleveland Business\nDavid Kanzeg\, Senior Director of Programming\, 90.3 WCPN Ideastream & WVIZ PBS\nModerated by: Ted Henry\, Anchor\, NewsChannel 5\n\n\nExecutive Caterers\n6111 Landerhaven Drive\nMayfield Heights\, OH 44124\nCost: $25/person or $185/table of eight\nRegister by calling 440.449.0700 x: 241 or at www.ccatlanderhaven.com\nPre-registration is required ? 24 hr cancellation notice
X-ALT-DESC;FMTTYPE=text/html:Executive Caterers\nCorporate Club at Landerhaven Series \n\nTune Into the Changing Media	\nThursday\, November 6\, 2008\n11:30 am Registration * 12 Noon Program & Luncheon\n\nBerry Pinney\, Director of Engineering\, NewsChannel 5\nMark Dodosh\, Editor\, Crain?s Cleveland Business\nDavid Kanzeg\, Senior Director of Programming\, 90.3 WCPN Ideastream & WVIZ PBS\nModerated by: Ted Henry\, Anchor\, NewsChannel 5\n\n\nExecutive Caterers\n6111 Landerhaven Drive\nMayfield Heights\, OH 44124\nCost: $25/person or $185/table of eight\nRegister by calling 440.449.0700 x: 241 or at www.ccatlanderhaven.com\nPre-registration is required ? 24 hr cancellation notice \n\n
LOCATION:Executive Caterers6111 Landerhaven DriveMayfield Heights\, OH 44124
UID:e.368.107
SEQUENCE:3
DTSTAMP:20260424T130758Z
URL:https://public.beachwood.org/events/details/tune-into-the-changing-media-11-06-2008-107
END:VEVENT

END:VCALENDAR
