BEGIN:VCALENDAR
VERSION:2.0
PRODID:-//ChamberMaster//Event Calendar 2.0//EN
METHOD:PUBLISH
X-PUBLISHED-TTL:P3D
REFRESH-INTERVAL:P3D
CALSCALE:GREGORIAN
BEGIN:VEVENT
DTSTART:20090608T130000Z
DTEND:20090608T160000Z
X-MICROSOFT-CDO-ALLDAYEVENT:FALSE
SUMMARY:Tri-C Summer Sports Camps
DESCRIPTION:Cuyahoga Community College's Eastern Campus is again providing Sports Summer Camps for students this year to help them develop their athletic abilities. There is still time to register your children. June 8-12th: Volleyball Camp for GirlsJune & July: BasketballJuly 20-24: Tennis Forward this opportunity to family and friends who may have students interest in the Sports Camps. Click here for a flier regarding the sports and times of each program.   To register\, call: 216-987-3075.
X-ALT-DESC;FMTTYPE=text/html:<div>Cuyahoga Community College&rsquo\;s Eastern Campus is again providing Sports Summer Camps for students this year to help them develop their athletic abilities.</div><div>&nbsp\;</div><div>There is still time to register your children.</div><div>&nbsp\;</div><ul><li><div align="left">June 8-12th: Volleyball Camp for Girls</div></li><li><div align="left">June &amp\; July: Basketball</div></li><li><div align="left">July 20-24: Tennis</div></li></ul><div>&nbsp\;</div><div>Forward this opportunity to family and friends who may have students interest in the Sports Camps.</div><div>&nbsp\;</div><div><a href="http://www.tri-c.edu/enrichment/sports/Documents/Camps%20Summer%2009.pdf">Click here</a> for a flier regarding the sports and times of each program.&nbsp\;&nbsp\;</div><div>&nbsp\;</div><div>To register\, call: 216-987-3075.</div>
LOCATION:Tri-C Eastern Campus
UID:e.368.214
SEQUENCE:3
DTSTAMP:20260423T170726Z
URL:https://public.beachwood.org/events/details/tri-c-summer-sports-camps-06-08-2009-214
END:VEVENT

END:VCALENDAR
