BEGIN:VCALENDAR
VERSION:2.0
PRODID:-//ChamberMaster//Event Calendar 2.0//EN
METHOD:PUBLISH
X-PUBLISHED-TTL:P3D
REFRESH-INTERVAL:P3D
CALSCALE:GREGORIAN
BEGIN:VEVENT
DTSTART:20140330T000000Z
DTEND:20140330T020000Z
X-MICROSOFT-CDO-ALLDAYEVENT:FALSE
SUMMARY:Tri-C Orchestra Gala Concert
DESCRIPTION:The Tri-C Orchestra Gala Concert\n\n\n\nSaturday\, March 29\, 2014 ~ 8 PM\n\nCuyahoga Community College East\n\n4250 Richmond Road\n\nBldg. ELA (Harvard Road entrance)\n\n\n\nFree Concert\n\nFree Parking\n\n\n\nProgram includes:\n\nAn American in Paris\n\nRhapsody in Blue\n\nSchindler's List\n\nVar. on a Shaker Melody\n\nAn Outdoor Adventure\n\nAdagio for Strings
X-ALT-DESC;FMTTYPE=text/html:The Tri-C Orchestra Gala Concert<br />\n<br />\nSaturday\, March 29\, 2014 ~ 8 PM<br />\nCuyahoga Community College East<br />\n4250 Richmond Road<br />\nBldg. ELA (Harvard Road entrance)<br />\n<br />\nFree Concert<br />\nFree Parking<br />\n<br />\nProgram includes:<br />\nAn American in Paris<br />\nRhapsody in Blue<br />\nSchindler&#39\;s List<br />\nVar. on a Shaker Melody<br />\nAn Outdoor Adventure<br />\nAdagio for Strings<br />\n<br />\n&nbsp\;
LOCATION:Cuyahoga Community College East 4250 Richmond Road\, Bldg. ELA (Harvard Road entrance)
UID:e.368.1108
SEQUENCE:3
DTSTAMP:20260420T115415Z
URL:https://public.beachwood.org/events/details/tri-c-orchestra-gala-concert-03-29-2014-1108
END:VEVENT

END:VCALENDAR
