BEGIN:VCALENDAR
VERSION:2.0
PRODID:-//ChamberMaster//Event Calendar 2.0//EN
METHOD:PUBLISH
X-PUBLISHED-TTL:P3D
REFRESH-INTERVAL:P3D
CALSCALE:GREGORIAN
BEGIN:VEVENT
DTSTART;VALUE=DATE:20170226
DTEND;VALUE=DATE:20170227
TRANSP:TRANSPARENT
X-MICROSOFT-CDO-ALLDAYEVENT:TRUE
SUMMARY:Tri-C Creative Arts Academy Dance Academy Ensemble
DESCRIPTION:"Hope from Within" ~ directed and choreographed by Terence Green\n\n\n\nSeveral modern dance pieces will be performed by this innovative dance troupe comprised of 15 high school dancers.  Emanuela Friscioni si the director the the Creative Arts Academy.\n\n\n\nThis program is part of the 50th anniversary celebration of Carl and Louis Stokes.
X-ALT-DESC;FMTTYPE=text/html:&nbsp\;&quot\;Hope from Within&quot\; ~ directed and choreographed by Terence Green<br />\n<br />\nSeveral modern dance pieces will be performed by this innovative dance troupe comprised of 15 high school dancers.&nbsp\; Emanuela Friscioni si the director the the Creative Arts Academy.<br />\n<br />\nThis program is part of the 50th anniversary celebration of Carl and Louis Stokes.
LOCATION:Tri-C Eastern Campus Simon and Rose Mandel Theatre 4250 Richmond Road Highland Heights\, OH
UID:e.368.6287
SEQUENCE:3
DTSTAMP:20260421T011825Z
URL:https://public.beachwood.org/events/details/tri-c-creative-arts-academy-dance-academy-ensemble-6287
END:VEVENT

END:VCALENDAR
