BEGIN:VCALENDAR
VERSION:2.0
PRODID:-//ChamberMaster//Event Calendar 2.0//EN
METHOD:PUBLISH
X-PUBLISHED-TTL:P3D
REFRESH-INTERVAL:P3D
CALSCALE:GREGORIAN
BEGIN:VEVENT
DTSTART;VALUE=DATE:20090324
DTEND;VALUE=DATE:20090325
TRANSP:TRANSPARENT
X-MICROSOFT-CDO-ALLDAYEVENT:TRUE
SUMMARY:Tri-C Cisco Certification Courses
DESCRIPTION:Cuyahoga Community College through its Workforce & Economic Division is continuing its program for Cisco Certification courses. The courses will be held at The Unified Technologies Center-UTS\, 2415 Woodland Avenue\, Cleveland\, OH 44115. To register for the program\, please call 216-987-3075. Please click here for a full brochure on the courses being offered\, dates\, and times.
X-ALT-DESC;FMTTYPE=text/html:<div>Cuyahoga Community College through its Workforce &amp\; Economic Division is continuing its program for Cisco Certification courses.</div><div>&nbsp\;</div><div>The courses will be held at The Unified Technologies Center-UTS\, 2415 Woodland Avenue\, Cleveland\, OH 44115.</div><div>&nbsp\;</div><div>To register for the program\, please call 216-987-3075.</div><div>&nbsp\;</div><div>Please <a href="https://secure.chambermaster.com/FCKeditor/UserFiles/chambers/368/File/CiscoBrochureSpring09Proof.pdf">click here</a> for a full brochure on the courses being offered\, dates\, and times.</div>
LOCATION:The Unified Technologies Center-UTC2415 Woodland AvenueCleveland\, OH 44115
UID:e.368.160
SEQUENCE:3
DTSTAMP:20260423T201824Z
URL:https://public.beachwood.org/events/details/tri-c-cisco-certification-courses-03-24-2009-160
END:VEVENT

END:VCALENDAR
