BEGIN:VCALENDAR
VERSION:2.0
PRODID:-//ChamberMaster//Event Calendar 2.0//EN
METHOD:PUBLISH
X-PUBLISHED-TTL:P3D
REFRESH-INTERVAL:P3D
CALSCALE:GREGORIAN
BEGIN:VEVENT
DTSTART:20140507T000000Z
DTEND:20140507T020000Z
X-MICROSOFT-CDO-ALLDAYEVENT:FALSE
SUMMARY:Tri-C American Composers Concert
DESCRIPTION:The community is cordially invited  to the Tri-C Eastern Campus orchestra concert of American Composers including:\n\n	Aaron Copland\n	Ferde Grofe\n	George Gershwin\n	Stephen Foster\n\n\n\nTuesday\, May 6\, 2014\n\n8:00 PM\n\nStudent Services Building Auditorium (Bulding ESS)\n\nUse Harvard Road entrance and park in Lot B-3\n\n\n\nThis is a FREE event
X-ALT-DESC;FMTTYPE=text/html:The community is cordially invited&nbsp\; to the Tri-C Eastern Campus orchestra concert of American Composers including:\n<ul>\n	<li>Aaron Copland</li>\n	<li>Ferde Grofe</li>\n	<li>George Gershwin</li>\n	<li>Stephen Foster</li>\n</ul>\n<br />\nTuesday\, May 6\, 2014<br />\n8:00 PM<br />\nStudent Services Building Auditorium (Bulding ESS)<br />\nUse Harvard Road entrance and park in Lot B-3<br />\n<br />\nThis is a FREE event
LOCATION:Cuyahoga Community College Eastern Campus 4250 Richmond Road Highland Heights
UID:e.368.1130
SEQUENCE:3
DTSTAMP:20260420T074343Z
URL:https://public.beachwood.org/events/details/tri-c-american-composers-concert-05-06-2014-1130
END:VEVENT

END:VCALENDAR
