BEGIN:VCALENDAR
VERSION:2.0
PRODID:-//ChamberMaster//Event Calendar 2.0//EN
METHOD:PUBLISH
X-PUBLISHED-TTL:P3D
REFRESH-INTERVAL:P3D
CALSCALE:GREGORIAN
BEGIN:VEVENT
DTSTART;VALUE=DATE:20180426
DTEND;VALUE=DATE:20180701
TRANSP:TRANSPARENT
X-MICROSOFT-CDO-ALLDAYEVENT:TRUE
SUMMARY:Treat Your Graduate at The Capital Grille
DESCRIPTION:Here's to a bright future ahead!\n\n\n\nAfter all of their hard work\, why not raise a glass to their accomplishments?\n\nWe invite you to bring your graduate's celebration to The Capital Grille - we'd be delighted to host.  Allow us to help recognize this triumph with our ry aged steaks\, world-class wine list and always attentive service.  Whether an intimate gathering with family or a large group\, your event is sure to be an occasion to remember.
X-ALT-DESC;FMTTYPE=text/html:<p>Here&#39\;s to a bright future ahead!<br />\n<br />\nAfter all of their hard work\, why not raise a glass to their accomplishments?</p>\n\n<p>We invite you to bring your graduate&#39\;s celebration to The Capital Grille - we&#39\;d be delighted to host.&nbsp\; Allow us to help recognize this triumph with our ry aged steaks\, world-class wine list and always attentive service.&nbsp\; Whether an intimate gathering with family or a large group\, your event is sure to be an occasion to remember.&nbsp\;<br />\n&nbsp\;</p>\n
LOCATION:The Capital Grille 25389 Cedar Road Lyndhurst\, OH
UID:e.368.6913
SEQUENCE:3
DTSTAMP:20260420T202817Z
URL:https://public.beachwood.org/events/details/treat-your-graduate-at-the-capital-grille-6913
END:VEVENT

END:VCALENDAR
