BEGIN:VCALENDAR
VERSION:2.0
PRODID:-//ChamberMaster//Event Calendar 2.0//EN
METHOD:PUBLISH
X-PUBLISHED-TTL:P3D
REFRESH-INTERVAL:P3D
CALSCALE:GREGORIAN
BEGIN:VEVENT
DTSTART:20150520T230000Z
DTEND:20150521T010000Z
X-MICROSOFT-CDO-ALLDAYEVENT:FALSE
SUMMARY:"Transitions : Celebrating 133 Years" - Montefiore's Annual Meeting
DESCRIPTION:Please join us for Montefiore's Annual Meeting\, "Transitions: Celebrating 133 Years" on Wednesday\, May 20\, 2015 at 7 pm in the Montefiore Maltz Auditorium\, One David N. Myers Parkway in Beachwood.\n\n\n\nThe Harley I. Gross Presidential Award will be presented to Judy and\n\nSteven Willensky\, both active members of Montefiore's board of directors   Steven is immediate Past Board Chair and Chair of Montefiore Housing Corporation and Judy is active on several committees and has co-chaired past fundraising events. \n\n\n\nOther meeting highlights include: Remarks from immediate past President and CEO\, Lauren B. Rock who will speak on "Reflections & Transitions"\; remarks from new President and CEO Seth Vilensky on "Building on Our Strengths"\; election of the Board of Directors\; honoring the Montefiore Auxiliary\; employee recognition\; and remarks from Board Chair Lawrence A. Mack who will speak on "Positioning for the Future." \n\n\n\nPlease respond by Friday\, May 15\, 2015 to Sharon Castro\, executive assistant\n\nat 216.910.2658 or email: scastro@montefiorecare.org.\n\n \nLight refreshments will be served. Free and open to the community.
X-ALT-DESC;FMTTYPE=text/html:<strong><span style="font-size:14.0pt">Please join us for Montefiore&rsquo\;s Annual Meeting\, &ldquo\;<em>Transitions: Celebrating 133 Years&rdquo\;</em> </span></strong><span style="font-size:14.0pt">on <strong>Wednesday\, May 20\, 2015 at 7 pm in the Montefiore Maltz Auditorium\, </strong>One David N. Myers Parkway in Beachwood.<br />\n<br />\nThe Harley I. Gross Presidential Award will be presented to Judy and<br />\nSteven Willensky\, both active members of Montefiore&rsquo\;s board of directors &ndash\; Steven is immediate Past Board Chair and Chair of Montefiore Housing Corporation and Judy is active on several committees and has co-chaired past fundraising events. </span><br />\n<br />\n<strong><u><span style="font-size:14.0pt">Other meeting highlights include</span></u></strong><span style="font-size:14.0pt">: Remarks from immediate past President and CEO\, Lauren B. Rock who will speak on &ldquo\;<em>Reflections &amp\; Transitions&rdquo\;</em>\; remarks from new President and CEO Seth Vilensky on &ldquo\;<em>Building on Our Strengths</em>&rdquo\;\; election of the Board of Directors\; honoring the Montefiore Auxiliary\; employee recognition\; and remarks from Board Chair Lawrence A. Mack who will speak on &ldquo\;<em>Positioning for the Future.&rdquo\;</em> </span><br />\n<br />\n<span style="font-size:14.0pt">Please respond by Friday\, May 15\, 2015 to Sharon Castro\, executive assistant<br />\nat 216.910.2658 or email: scastro@montefiorecare.org.</span><br />\n&nbsp\;\n<div style="margin-left:0in\; margin-right:9pt\; text-align:center"><span style="font-size:14.0pt">Light refreshments will be served. Free and open to the community.</span></div>\n
LOCATION:One David N. Myers Parkway\, Beachwood\, Ohio 44122
UID:e.368.3728
SEQUENCE:3
DTSTAMP:20260419T120349Z
URL:https://public.beachwood.org/events/details/transitions-celebrating-133-years-montefiore-s-annual-meeting-05-20-2015-3728
END:VEVENT

END:VCALENDAR
