BEGIN:VCALENDAR
VERSION:2.0
PRODID:-//ChamberMaster//Event Calendar 2.0//EN
METHOD:PUBLISH
X-PUBLISHED-TTL:P3D
REFRESH-INTERVAL:P3D
CALSCALE:GREGORIAN
BEGIN:VEVENT
DTSTART:20160130T153000Z
DTEND:20160130T163000Z
X-MICROSOFT-CDO-ALLDAYEVENT:FALSE
SUMMARY:Time Management for Retirees
DESCRIPTION:Why would retirees need a time management program? They have all the time in the world\, right? Actually\, not having a structured work routine can lead many to feel lost and disillusioned.\n\n\n\nAttend this workshop and you will learn about the latest trends in time management and about how to establish your own structures and routines to feel productive\, balanced and happy.\n\n\n\nNow that you get to choose\, why not choose something that is JUST RIGHT FOR YOU?\n\n\n\nInstructor: Anja Sassenberg-DeGeorgia of FORWARD Life Coaching\, LLC.
X-ALT-DESC;FMTTYPE=text/html:<div style="margin-left:20px">&nbsp\;Why would retirees need a time management program? They have all the time in the world\, right? Actually\, not having a structured work routine can lead many to feel lost and disillusioned.<br />\n<br />\nAttend this workshop and you will learn about the latest trends in time management and about how to establish your own structures and routines to feel productive\, balanced and happy.<br />\n<br />\nNow that you get to choose\, why not choose something that is JUST RIGHT FOR YOU?<br />\n<br />\nInstructor: Anja Sassenberg-DeGeorgia of FORWARD Life Coaching\, LLC.</div>\n
LOCATION:Beachwood Branch of Cuyahoga County Public Library 25501 Shaker Blvd Beachwood OH 44122
UID:e.368.4812
SEQUENCE:3
DTSTAMP:20260420T073745Z
URL:https://public.beachwood.org/events/details/time-management-for-retirees-01-30-2016-4812
END:VEVENT

END:VCALENDAR
