BEGIN:VCALENDAR
VERSION:2.0
PRODID:-//ChamberMaster//Event Calendar 2.0//EN
METHOD:PUBLISH
X-PUBLISHED-TTL:P3D
REFRESH-INTERVAL:P3D
CALSCALE:GREGORIAN
BEGIN:VEVENT
DTSTART:20140715T230000Z
DTEND:20140716T003000Z
X-MICROSOFT-CDO-ALLDAYEVENT:FALSE
SUMMARY:Tim Tibbits Book Launch "Echo Still"
DESCRIPTION:Come to the book launch for local author Tim Tibbits first novel "Echo Still". Tim brings his experience as an English teacher and tutor to this story of 12 year old Fig\, the product of an interfaith marriage who lost his mother at the age of four. Fig's seventh grade existence is challenged when his non-Jewish father insists he go through the preparation for Bar Mitzvah.\, even though he feels very little connection to his Mother's religion. Only when his Jewish grandmother enters his life does he find the maternal love he has craved \, and a connection to his Jewish heritage. Books will be available for purchase and signing. Please register at www.cuyahogalibrary.org or call 216-831-6868.
X-ALT-DESC;FMTTYPE=text/html:Come to the book launch for local author Tim Tibbits first novel &ldquo\;Echo Still&rdquo\;. Tim brings his experience as an English teacher and tutor to this story of 12 year old Fig\, the product of an interfaith marriage who lost his mother at the age of four. Fig&rsquo\;s seventh grade existence is challenged when his non-Jewish father insists he go through the preparation for Bar Mitzvah.\, even though he feels very little connection to his Mother&rsquo\;s religion. Only when his Jewish grandmother enters his life does he find the maternal love he has craved \, and a connection to his Jewish heritage. Books will be available for purchase and signing. Please register at www.cuyahogalibrary.org or call 216-831-6868.<br />\n&nbsp\;
LOCATION:Beachwood Branch of Cuyahoga County Public Library 25501 Shaker Blvd Beachwood OH 44122
UID:e.368.1139
SEQUENCE:3
DTSTAMP:20260420T043051Z
URL:https://public.beachwood.org/events/details/tim-tibbits-book-launch-echo-still-07-15-2014-1139
END:VEVENT

END:VCALENDAR
