BEGIN:VCALENDAR
VERSION:2.0
PRODID:-//ChamberMaster//Event Calendar 2.0//EN
METHOD:PUBLISH
X-PUBLISHED-TTL:P3D
REFRESH-INTERVAL:P3D
CALSCALE:GREGORIAN
BEGIN:VEVENT
DTSTART:20081102T183000Z
DTEND:20081102T200000Z
X-MICROSOFT-CDO-ALLDAYEVENT:FALSE
SUMMARY:Three Men on Canvas-Artists' Reception
DESCRIPTION:The City of Beachwood's Community Center is currently exhibiting the works of three artistsJames McNamara (Mixed Media)Frank Sliwa (Watercolor)Michael Winston (Magic Marker)The Artists' Reception for the Show is entitled "Three Men on Canvas" and will be held on Sunday\, November 2nd from 1:30-3:00 PM. For visually challenged individuals there will be a portable magnification screen available at the reception only that will allow them to see (in color) the talents of these artists.  The magnification screen is awesome and allows the viewer to see each and every brush stroke and rainbow of colors on the canvas.  The exhibit goes through November 13th.  For additional information\, please call 216-292-1911. The exhibit is free and open to the public.
X-ALT-DESC;FMTTYPE=text/html:<div>The City of Beachwood&rsquo\;s Community Center is currently exhibiting the works of three artists</div><ul><li>James McNamara&nbsp\;(Mixed Media)</li><li>Frank Sliwa&nbsp\;(Watercolor)</li><li>Michael Winston&nbsp\;(Magic Marker)</li></ul><div>The Artists&rsquo\; Reception for the Show is entitled &quot\;Three Men on Canvas&quot\; and will be held on Sunday\, November 2nd from 1:30-3:00 PM.</div><div>&nbsp\;</div><div>For visually challenged individuals there will be&nbsp\;a portable magnification screen&nbsp\;available at the reception only&nbsp\;that will allow them to&nbsp\;see (in color) the talents of these artists.&nbsp\; The magnification screen is awesome and allows the viewer to see each and every brush stroke and rainbow of colors on the canvas.&nbsp\;</div><div>&nbsp\;</div><div>The exhibit goes through November 13th.&nbsp\; For additional information\, please call 216-292-1911.</div><div>&nbsp\;</div><div>The exhibit is free and open to the public.</div>
LOCATION:Beachwood Community Centerat the Municipal Complex onFairmount Blvd.
UID:e.368.115
SEQUENCE:3
DTSTAMP:20260424T010707Z
URL:https://public.beachwood.org/events/details/three-men-on-canvas-artists-reception-11-02-2008-115
END:VEVENT

END:VCALENDAR
