BEGIN:VCALENDAR
VERSION:2.0
PRODID:-//ChamberMaster//Event Calendar 2.0//EN
METHOD:PUBLISH
X-PUBLISHED-TTL:P3D
REFRESH-INTERVAL:P3D
CALSCALE:GREGORIAN
BEGIN:VEVENT
DTSTART:20081206T010000Z
DTEND:20081208T010000Z
X-MICROSOFT-CDO-ALLDAYEVENT:FALSE
SUMMARY:The Wizard of Oz
DESCRIPTION:The City of Beachwood's Recreation Community Theater presents ...The Wizard of OzStarring Chamber member Sharon Comet-Epstein as the Wicked Witch of the West.Performances are:Friday\, December 5 at 8 PMSaturday\, December 6 at 7 PMSunday\, December 7 at 2 PM additional performances (same times) are Dec 12-14 and 19th and 20th.The performances will be held at the Beachwood Middle School Auditorium\n(Richmond Road and Shaker Blvd. West).Cost is $6 for youth and senior adults and $7 for adults.There will also be a "Dress Like Dorothy" contest at both Saturday matinees. All youngsters dressed like any leading character will be called up to the stage at intermission and will have their photo taken with the cast.For more information\, click here for the flier.For group discounts\, call the Recreation Center at 216-292-1970
X-ALT-DESC;FMTTYPE=text/html:<p>The City of Beachwood&rsquo\;s Recreation Community Theater presents ...</p><p><font size="4"><strong>The Wizard of Oz</strong></font></p><p>Starring Chamber member Sharon Comet-Epstein as the Wicked Witch of the West.</p><div>Performances are:</div><div>Friday\, December 5 at 8 PM</div><div>Saturday\, December 6 at 7 PM</div><div>Sunday\, December 7 at 2 PM</div><div>&nbsp\;</div><div>additional performances (same times) are Dec 12-14 and 19th and 20th.</div><p>The performances will be held at the Beachwood Middle School Auditorium<br />(Richmond Road and Shaker Blvd. West).</p><p>Cost is $6 for youth and senior adults and $7 for adults.</p><p>There will also be a &quot\;Dress Like Dorothy&quot\; contest at both Saturday matinees. All youngsters dressed like any leading character will be called up to the stage at intermission and will have their photo taken with the cast.</p><p>For more information\, <a href="https://secure.chambermaster.com/FCKeditor/UserFiles/chambers/368/File/Wizard_Oz-08poster_word1.pdf">click here</a> for the flier.</p><p>For group discounts\, call the Recreation Center at 216-292-1970</p><p>&nbsp\;</p>
LOCATION:Beachwood Middle School Auditorium Richmond Road and Shaker Blvd West
UID:e.368.130
SEQUENCE:3
DTSTAMP:20260423T235220Z
URL:https://public.beachwood.org/events/details/the-wizard-of-oz-12-05-2008-130
END:VEVENT

END:VCALENDAR
