BEGIN:VCALENDAR
VERSION:2.0
PRODID:-//ChamberMaster//Event Calendar 2.0//EN
METHOD:PUBLISH
X-PUBLISHED-TTL:P3D
REFRESH-INTERVAL:P3D
CALSCALE:GREGORIAN
BEGIN:VEVENT
DTSTART:20151205T003000Z
DTEND:20151205T030000Z
X-MICROSOFT-CDO-ALLDAYEVENT:FALSE
SUMMARY:The Wizard of Oz
DESCRIPTION:Join us on the yellow brick road to see The Wizard of Oz.\n\nDoors open 30 minutes prior to show time.\n\nTickets: Students/Seniors $7.00 Adults $8.00\n\n\n\nAll performances held at Beachwood Middle School
X-ALT-DESC;FMTTYPE=text/html:Join us on the yellow brick road to see The Wizard of Oz.<br />\nDoors open 30 minutes prior to show time.<br />\nTickets: Students/Seniors $7.00 Adults $8.00<br />\n<br />\nAll performances held at Beachwood Middle School<br />\n&nbsp\;
LOCATION:Beachwood Middle School
UID:e.368.3799
SEQUENCE:3
DTSTAMP:20260420T073420Z
URL:https://public.beachwood.org/events/details/the-wizard-of-oz-12-04-2015-3799
END:VEVENT

END:VCALENDAR
