BEGIN:VCALENDAR
VERSION:2.0
PRODID:-//ChamberMaster//Event Calendar 2.0//EN
METHOD:PUBLISH
X-PUBLISHED-TTL:P3D
REFRESH-INTERVAL:P3D
CALSCALE:GREGORIAN
BEGIN:VEVENT
DTSTART:20090611T153000Z
DTEND:20090611T173000Z
X-MICROSOFT-CDO-ALLDAYEVENT:FALSE
SUMMARY:The Real State of Real Estate
DESCRIPTION:EXECUTIVE CATERERS?\nCorporate Club at Landerhaven presents?\n\nTHE REAL STATE OF REAL ESTATE	\nThursday\, June 11\, 2009\n11:30 am Registration * 12 Noon Program & Luncheon\n\nJim Rokakis\, Cuyahoga County Treasurer\nDianna Hosta-Stickney\, Chairwoman\, Cleveland Area Board of Realtors\nCouncilman Anthony Brancatelli\, Cleveland City Council ? Ward 12\nModerated by: Leon Bibb\, Emmy Award-Winning Anchor\, NewsChannel 5
X-ALT-DESC;FMTTYPE=text/html:EXECUTIVE CATERERS?\nCorporate Club at Landerhaven presents?\n\nTHE REAL STATE OF REAL ESTATE	\nThursday\, June 11\, 2009\n11:30 am Registration * 12 Noon Program & Luncheon\n\nJim Rokakis\, Cuyahoga County Treasurer\nDianna Hosta-Stickney\, Chairwoman\, Cleveland Area Board of Realtors\nCouncilman Anthony Brancatelli\, Cleveland City Council ? Ward 12\nModerated by: Leon Bibb\, Emmy Award-Winning Anchor\, NewsChannel 5\n\n
LOCATION:Executive Caterers at Landerhaven - 6111 Landerhaven Drive\, Mayfield Hts.\, OH 44124
UID:e.368.210
SEQUENCE:3
DTSTAMP:20260423T171016Z
URL:https://public.beachwood.org/events/details/the-real-state-of-real-estate-06-11-2009-210
END:VEVENT

END:VCALENDAR
