BEGIN:VCALENDAR
VERSION:2.0
PRODID:-//ChamberMaster//Event Calendar 2.0//EN
METHOD:PUBLISH
X-PUBLISHED-TTL:P3D
REFRESH-INTERVAL:P3D
CALSCALE:GREGORIAN
BEGIN:VEVENT
DTSTART:20090510T120000Z
DTEND:20090510T160000Z
X-MICROSOFT-CDO-ALLDAYEVENT:FALSE
SUMMARY:The Race (for breast cancer research)
DESCRIPTION:Participate in the 6th Annual one-mile walk/run event for cancer research  100% of the monies raised will be donated to the Cleveland Clinic Taussig Cancer Center for breast cancer research. ORG absorbs all the administrative costs.Make it a Mother's Day to remember!Race participants will receive t-shirts.Everyone can enjoy refreshments\, entertainment\, prizes.Children's activitiesFive years ago\, the two oldest children of ORG's Jonathan Berns--Josh and Danielle--came up with the idea of starting The Race\, which was designed to raise awareness and money for breast cancer research.  The idea came to them during a time when a close friend's mother was battling breast cancer.  Since its inception\, The Race has raised almost $350\,000 for breast cancer research and awareness\, and attracted over 1000 people to Legacy Village last year for the event. The Race has honored some very special people in the past. This year's honorary co-chair is Amy Green\, who is currently battling Stage IV breast cancer. She has been a photographer for Flashes fo Hope\, an organization which creates portraits of children with cancer\, for a number of years. Please join The Race to show support for Amy and her family at The Race 2009. For more information\, to register or to make a donation\, please visit www.dotherace.com
X-ALT-DESC;FMTTYPE=text/html:<div><font color="#000080">Participate in the <strong>6th Annual</strong> <strong>one-mile walk/run event&nbsp\;</strong>for cancer research&nbsp\;</font></div><div>&nbsp\;<div><font color="#000080">100% of the monies raised will be donated to the Cleveland Clinic Taussig Cancer Center for breast cancer research. ORG absorbs all the administrative costs.</font></div></div><ul><li><font color="#000080">Make it a Mother&rsquo\;s Day to remember!</font></li><li><font color="#000080">Race participants will receive t-shirts.</font></li><li><font color="#000080">Everyone can enjoy refreshments\, entertainment\, prizes.</font></li><li><font color="#000080">Children&rsquo\;s activities</font></li></ul><div><span style="color: #1f497d"><font color="#000080">Five years ago\,&nbsp\;the&nbsp\;two oldest children of ORG&rsquo\;s Jonathan Berns--Josh and Danielle--came up with the idea of starting The Race\, which was designed to raise awareness and money for breast cancer research.&nbsp\; The idea came to them during a time when a close friend&rsquo\;s mother was battling breast cancer.&nbsp\; Since its inception\, The Race has raised almost $350\,000 for breast cancer research and awareness\, and attracted over 1000 people to Legacy Village last year for the event.</font></span></div><div>&nbsp\;</div><div><span style="color: #1f497d"><font color="#000080">The Race has honored some very special people in the past. This year&rsquo\;s honorary co-chair is Amy Green\, who is currently battling Stage IV breast cancer. She has been a photographer for Flashes fo Hope\, an organization which creates portraits of children with cancer\, for a number of years. Please join The Race to show support for Amy and her family at The Race 2009.</font></span></div><div>&nbsp\;</div><div><span style="color: #1f497d"><font color="#000080">For more information\,&nbsp\;to register or to make a donation\, please&nbsp\;visit</font> <a href="http://www.dotherace.com">www.dotherace.com</a></span></div><div><span style="color: #1f497d">&nbsp\;</span></div>
LOCATION:Legacy Village25001 Cedar RoadLyndhurst
UID:e.368.207
SEQUENCE:3
DTSTAMP:20260423T182811Z
URL:https://public.beachwood.org/events/details/the-race-for-breast-cancer-research-05-10-2009-207
END:VEVENT

END:VCALENDAR
