BEGIN:VCALENDAR
VERSION:2.0
PRODID:-//ChamberMaster//Event Calendar 2.0//EN
METHOD:PUBLISH
X-PUBLISHED-TTL:P3D
REFRESH-INTERVAL:P3D
CALSCALE:GREGORIAN
BEGIN:VEVENT
DTSTART:20150726T000000Z
DTEND:20150726T020000Z
X-MICROSOFT-CDO-ALLDAYEVENT:FALSE
SUMMARY:The Prime Directive at Valenti's Ristorante
DESCRIPTION:Fabulous!  Jazz\, Blue -- what a fantastic mix!  We are so delighted they have joined our roster at Valenti's!  Simply a MUST!
X-ALT-DESC;FMTTYPE=text/html:Fabulous!&nbsp\; Jazz\, Blue -- what a fantastic mix!&nbsp\; We are so delighted they have joined our roster at Valenti&#39\;s!&nbsp\; Simply a MUST!
LOCATION:3365 Richmond Road Suite 130 Beachwood\, OH 44122
UID:e.368.3761
SEQUENCE:3
DTSTAMP:20260420T003032Z
URL:https://public.beachwood.org/events/details/the-prime-directive-at-valenti-s-ristorante-07-25-2015-3761
END:VEVENT

END:VCALENDAR
