BEGIN:VCALENDAR
VERSION:2.0
PRODID:-//ChamberMaster//Event Calendar 2.0//EN
METHOD:PUBLISH
X-PUBLISHED-TTL:P3D
REFRESH-INTERVAL:P3D
CALSCALE:GREGORIAN
BEGIN:VEVENT
DTSTART:20170205T190000Z
DTEND:20170205T200000Z
X-MICROSOFT-CDO-ALLDAYEVENT:FALSE
SUMMARY:The Pop Tarts Concert
DESCRIPTION:The Beachwood Arts Council presents ...\n\n\n\nTHE POP TARTS CONCERT\n\n\n\nA musical afternoon of swinging-60's pop songs performed by four groovy chicks\, dressed in matching 60's outfits\, who sing in perfect harmony.\n\n\n\nFree and open to the community..
X-ALT-DESC;FMTTYPE=text/html:The Beachwood Arts Council presents ...<br />\n<br />\n<strong>THE POP TARTS CONCERT</strong><br />\n<br />\nA musical afternoon of swinging-60&#39\;s pop songs performed by four groovy chicks\, dressed in matching 60&#39\;s outfits\, who sing in perfect harmony.<br />\n<br />\nFree and open to the community..<br />\n&nbsp\;
LOCATION:Beachwood Community Center 25225 Fairmount Blvd.
UID:e.368.6276
SEQUENCE:3
DTSTAMP:20260421T011854Z
URL:https://public.beachwood.org/events/details/the-pop-tarts-concert-6276
END:VEVENT

END:VCALENDAR
