BEGIN:VCALENDAR
VERSION:2.0
PRODID:-//ChamberMaster//Event Calendar 2.0//EN
METHOD:PUBLISH
X-PUBLISHED-TTL:P3D
REFRESH-INTERVAL:P3D
CALSCALE:GREGORIAN
BEGIN:VEVENT
DTSTART:20170621T040000Z
DTEND:20170621T165500Z
X-MICROSOFT-CDO-ALLDAYEVENT:FALSE
SUMMARY:The Longest Day
DESCRIPTION:The Longest Day\n \n\nThe Longest Day is all about love. Love for all those affected by Alzheimer's disease. On the summer solstice\, June 21\, 2017\, people across the world will join the Alzheimer's Association to do an activity they love - or an activity loved by those affected - to help end Alzheimer's. Together\, we will raise funds and awareness for care and support while advancing research toward the first survivor of Alzheimer's.\n\n \n\nHow Do I Participate?\n\n\n\n	Visit http://www.alz.org/cleveland/in_my_community_101146.asp and sign up and select an activity. Do something you love - or honor a caregiver\, someone living with Alzheimer's\, or someone you've lost - by selecting his or her favorite hobby. Use your imagination!\n\n\n\n\n\n	Start or join a team\, host an event\, or register as an individual.\n\n\n\n\n\n	Raise money to advance critically-needed research and provide care and support championed by the Alzheimer's Association.\n\n\n\n\n\n	If you're hosting an event\, get organized now and plan for the big day. Ask friends and family to help!\n\n\nOn The Longest Day you'll be part of a global movement to help end Alzheimer's disease. Share your photos\, stories and success on social media using #TheLongestDay and #ENDALZ.
X-ALT-DESC;FMTTYPE=text/html:<strong>The Longest Day</strong>\n<div>&nbsp\;</div>\n\n<div>The Longest Day is all about love. Love for all those affected by Alzheimer&#39\;s disease. On the summer solstice\, June 21\, 2017\, people across the world will join the Alzheimer&#39\;s Association to do an activity they love - or an activity loved by those affected - to help end Alzheimer&#39\;s. Together\, we will raise funds and awareness for care and support while advancing research toward the first survivor of Alzheimer&#39\;s.</div>\n\n<div>&nbsp\;</div>\n\n<div><strong>How Do I Participate?</strong></div>\n\n<div>\n<ul>\n	<li>Visit <a href="http://www.alz.org/cleveland/in_my_community_101146.asp">http://www.alz.org/cleveland/in_my_community_101146.asp</a>&nbsp\;and sign up and select an activity. Do something you love - or honor a caregiver\, someone living with Alzheimer&#39\;s\, or someone you&#39\;ve lost - by selecting his or her favorite hobby. Use your imagination!</li>\n</ul>\n</div>\n\n<div>\n<ul>\n	<li>Start or join a team\, host an event\, or register as an individual.</li>\n</ul>\n</div>\n\n<div>\n<ul>\n	<li>Raise money to advance critically-needed research and provide care and support championed by the Alzheimer&#39\;s Association.</li>\n</ul>\n</div>\n\n<div>\n<ul>\n	<li>If you&#39\;re hosting an event\, get organized now and plan for the big day. Ask friends and family to help!</li>\n</ul>\n\n<div>On The Longest Day you&#39\;ll be part of a global movement to help end Alzheimer&#39\;s disease. Share your photos\, stories and success on social media using #TheLongestDay and #ENDALZ.</div>\n</div>\n
LOCATION:
UID:e.368.6299
SEQUENCE:3
DTSTAMP:20260421T064653Z
URL:https://public.beachwood.org/events/details/the-longest-day-06-21-2017-6299
END:VEVENT

END:VCALENDAR
