BEGIN:VCALENDAR
VERSION:2.0
PRODID:-//ChamberMaster//Event Calendar 2.0//EN
METHOD:PUBLISH
X-PUBLISHED-TTL:P3D
REFRESH-INTERVAL:P3D
CALSCALE:GREGORIAN
BEGIN:VEVENT
DTSTART:20090417T170000Z
DTEND:20090417T230000Z
X-MICROSOFT-CDO-ALLDAYEVENT:FALSE
SUMMARY:The Green Dream: Eco-friendly Showcase
DESCRIPTION:Helping  the enviroment is a big challenge.No one can do everything but everyone can dosomething.It starts with you -- one person\, one day at a time. The Beachwood High School Junior Achievement\, in conjunction with Mayfield Excel TECC Junior Achievement\, presents .... The Green Dream eco-friendly showcase Friday\, April 17th1 - 7 PMBeachwood Community Center(corner of Richmond Rd & Fairmount Blvd.)Admission is FREE See over 70 environmentally conscious businesses\, demonstrations\, a reusable tote bag give-awya\, simple tips on how to help the environment\, crafts\, area resources\, and more. For more information contact Flo Brett at 216-831-2080 X236.
X-ALT-DESC;FMTTYPE=text/html:<div>Helping&nbsp\; the enviroment is a big challenge.</div><div>No one can do everything but everyone can dosomething.</div><div>It starts with you -- one person\, one day at a time.</div><div>&nbsp\;</div><div>The Beachwood High School Junior Achievement\, in conjunction with Mayfield Excel TECC Junior Achievement\, presents ....</div><div>&nbsp\;</div><div><font size="3"><strong>The Green Dream eco-friendly showcase</strong></font></div><div>&nbsp\;</div><div align="center">Friday\, April 17th</div><div align="center">1 - 7 PM</div><div align="center">Beachwood Community Center</div><div align="center">(corner of Richmond Rd &amp\; Fairmount Blvd.)</div><div align="center">Admission is FREE</div><div>&nbsp\;</div><div>See over 70 environmentally conscious businesses\, demonstrations\, a reusable tote bag give-awya\, simple tips on how to help the environment\, crafts\, area resources\, and more.</div><div>&nbsp\;</div><div>For more information contact Flo Brett at 216-831-2080 X236.</div>
LOCATION:Beachwood Community CenterFairmount Blvd & Richmond Road
UID:e.368.182
SEQUENCE:3
DTSTAMP:20260423T192603Z
URL:https://public.beachwood.org/events/details/the-green-dream-eco-friendly-showcase-04-17-2009-182
END:VEVENT

END:VCALENDAR
