BEGIN:VCALENDAR
VERSION:2.0
PRODID:-//ChamberMaster//Event Calendar 2.0//EN
METHOD:PUBLISH
X-PUBLISHED-TTL:P3D
REFRESH-INTERVAL:P3D
CALSCALE:GREGORIAN
BEGIN:VEVENT
DTSTART:20181208T140000Z
DTEND:20181208T180000Z
X-MICROSOFT-CDO-ALLDAYEVENT:FALSE
SUMMARY:The Gathering Place Warehouse Home Furnishings Sale
DESCRIPTION:Quality furniture\, lovely home accessories and costume jewelry. New items priced to sell! All costume jewelry 50% off. Clearance on previous items.  Shop on Saturday\, December 8\, 9am-1pm and Sunday\, December 9\, 10am-1pm.\n\n\n\nThe warehouse is located at 4911 Commerce Parkway\, Warrensville Heights\, 44128.\n\n\n\nProceeds from warehouse sales help The Gathering Place provide free programs and services to people currently coping with the impact of cancer.
X-ALT-DESC;FMTTYPE=text/html:Quality furniture\, lovely home accessories and costume jewelry. New items priced to sell! All costume jewelry 50% off. Clearance on previous items.&nbsp\; Shop on Saturday\, December 8\, 9am-1pm and Sunday\, December 9\, 10am-1pm.<br />\n<br />\nThe warehouse is located at 4911 Commerce Parkway\, Warrensville Heights\, 44128.<br />\n<br />\nProceeds from warehouse sales help The Gathering Place provide free programs and services to people currently coping with the impact of cancer.
LOCATION:4911 Commerce Parkway\, Warrensville Heights\, OH 44128
UID:e.368.8001
SEQUENCE:3
DTSTAMP:20260420T123828Z
URL:https://public.beachwood.org/events/details/the-gathering-place-warehouse-home-furnishings-sale-12-08-2018-8001
END:VEVENT

END:VCALENDAR
