BEGIN:VCALENDAR
VERSION:2.0
PRODID:-//ChamberMaster//Event Calendar 2.0//EN
METHOD:PUBLISH
X-PUBLISHED-TTL:P3D
REFRESH-INTERVAL:P3D
CALSCALE:GREGORIAN
BEGIN:VEVENT
DTSTART:20141206T140000Z
DTEND:20141206T180000Z
X-MICROSOFT-CDO-ALLDAYEVENT:FALSE
SUMMARY:The Gathering Place Warehouse Home Furnishings Sale
DESCRIPTION:The Gathering Place Warehouse is having a sale on Saturday\, December 6th from 9am-1pm and Sunday\,December 7th from 10am-1pm at 4911 Commerce Parkway in Warrensville Heights.\n\n\n\nThis sale has wonderful gifts for the holidays\, gorgeous new inventory and beautiful costume jewelry. For more information call 216.595.9546.\n\n\n\nProceeds support the free programs and services at The Gathering Place for individuals and families touched by cancer.
X-ALT-DESC;FMTTYPE=text/html:The Gathering Place Warehouse is having a sale on Saturday\, December 6th from 9am-1pm and Sunday\,December 7th from 10am-1pm at 4911 Commerce Parkway in Warrensville Heights.<br />\n<br />\nThis sale has wonderful gifts for the holidays\, gorgeous new inventory and beautiful costume jewelry. For more information call 216.595.9546.<br />\n<br />\nProceeds support the free programs and services at The Gathering Place for individuals and families touched by cancer.
LOCATION:4911 Commerce Parkway Warrensville Heights\, OH 44128
UID:e.368.1196
SEQUENCE:3
DTSTAMP:20260419T213815Z
URL:https://public.beachwood.org/events/details/the-gathering-place-warehouse-home-furnishings-sale-12-06-2014-1196
END:VEVENT

END:VCALENDAR
