BEGIN:VCALENDAR
VERSION:2.0
PRODID:-//ChamberMaster//Event Calendar 2.0//EN
METHOD:PUBLISH
X-PUBLISHED-TTL:P3D
REFRESH-INTERVAL:P3D
CALSCALE:GREGORIAN
BEGIN:VEVENT
DTSTART:20151205T140000Z
DTEND:20151205T190000Z
X-MICROSOFT-CDO-ALLDAYEVENT:FALSE
SUMMARY:The Gathering Place Warehouse Home Furnishings Sale
DESCRIPTION:Shop at The Gathering Place Warehouse on Saturday\, December 5th\, 9:00am-2:00pm and Sunday\, December 6th\, 10:00am-1:00pm. Beautiful holiday decorations\, wonderful stocking stuffers and fabulous new costume jewelry selection. Proceeds from sales at the warehouse help The Gathering Place provide free programs and services to those touched by cancer.\n\n\n\nCredit Card or Cash Only.\n\n\n\nThe warehouse is located at 4911 Commerce Parkway in Warrensville Heights. Call 216-595-9546 for more information.
X-ALT-DESC;FMTTYPE=text/html:Shop at The Gathering Place Warehouse on Saturday\, December 5th\, 9:00am-2:00pm and Sunday\, December 6th\, 10:00am-1:00pm. Beautiful holiday decorations\, wonderful stocking stuffers and fabulous new costume jewelry selection. Proceeds from sales at the warehouse help The Gathering Place provide free programs and services to those touched by cancer.<br />\n<br />\nCredit Card or Cash Only.<br />\n<br />\nThe warehouse is located at 4911 Commerce Parkway in Warrensville Heights. Call 216-595-9546 for more information.
LOCATION:4911 Commerce Parkway\, Warrensville Heights\, OH 44128
UID:e.368.3803
SEQUENCE:3
DTSTAMP:20260420T061038Z
URL:https://public.beachwood.org/events/details/the-gathering-place-warehouse-home-furnishings-sale-12-05-2015-3803
END:VEVENT

END:VCALENDAR
