BEGIN:VCALENDAR
VERSION:2.0
PRODID:-//ChamberMaster//Event Calendar 2.0//EN
METHOD:PUBLISH
X-PUBLISHED-TTL:P3D
REFRESH-INTERVAL:P3D
CALSCALE:GREGORIAN
BEGIN:VEVENT
DTSTART:20181103T130000Z
DTEND:20181103T170000Z
X-MICROSOFT-CDO-ALLDAYEVENT:FALSE
SUMMARY:The Gathering Place Warehouse Home Furnishings Sale
DESCRIPTION:Shop for lovely furniture and decorative accessories. Many items are 20-50% off. Shop on Saturday\, November 3\, 9am-1pm and Sunday\, November 4\, 10am-1pm. Visit www.touchedbycancer.org/wareho... to see photos of some of the items for sale. The warehouse is located at 4911 Commerce Parkway\, Warrensville Heights\, 44128.\n\nProceeds from warehouse sales help The Gathering Place provide free programs and services to people currently coping with the impact of cancer.
X-ALT-DESC;FMTTYPE=text/html:<p>Shop for lovely furniture and decorative accessories. Many items are 20-50% off. Shop on Saturday\, November 3\, 9am-1pm and Sunday\, November 4\, 10am-1pm. Visit <a href="http://www.touchedbycancer.org/warehouse">www.touchedbycancer.org/wareho...</a>&nbsp\;to see photos of some of the items for sale. The warehouse is located at 4911 Commerce Parkway\, Warrensville Heights\, 44128.</p>\n\n<p>Proceeds from warehouse sales help The Gathering Place provide free programs and services to people currently coping with the impact of cancer.</p>\n
LOCATION:4911 Commerce Parkway\, Warrensville Heights\, OH 44128
UID:e.368.7980
SEQUENCE:3
DTSTAMP:20260420T135130Z
URL:https://public.beachwood.org/events/details/the-gathering-place-warehouse-home-furnishings-sale-11-03-2018-7980
END:VEVENT

END:VCALENDAR
