BEGIN:VCALENDAR
VERSION:2.0
PRODID:-//ChamberMaster//Event Calendar 2.0//EN
METHOD:PUBLISH
X-PUBLISHED-TTL:P3D
REFRESH-INTERVAL:P3D
CALSCALE:GREGORIAN
BEGIN:VEVENT
DTSTART:20160827T130000Z
DTEND:20160827T170000Z
X-MICROSOFT-CDO-ALLDAYEVENT:FALSE
SUMMARY:The Gathering Place Warehouse Home Furnishings Sale
DESCRIPTION:Find exquisite home furnishings at The Gathering Place Warehouse on Saturday\, August 27th\, 9:00am-1:00pm and Sunday\, August 28th\, 11:00am-1:00pm. Spend $100 or more\, get $25 off. Great selection of home furnishings and collectibles\, and costume jewelry. For more information call 216-595-9546.\n\n\n\nProceeds from warehouse sales help us provide free programs and services to those touched by cancer.
X-ALT-DESC;FMTTYPE=text/html:Find exquisite home furnishings at The Gathering Place Warehouse on Saturday\, August 27th\, 9:00am-1:00pm and Sunday\, August 28th\, 11:00am-1:00pm. Spend $100 or more\, get $25 off. Great selection of home furnishings and collectibles\, and costume jewelry. For more information call 216-595-9546.<br />\n<br />\nProceeds from warehouse sales help us provide free programs and services to those touched by cancer.
LOCATION:4911 Commerce Parkway Warrensville Heights\, OH 44128
UID:e.368.6035
SEQUENCE:3
DTSTAMP:20260420T182737Z
URL:https://public.beachwood.org/events/details/the-gathering-place-warehouse-home-furnishings-sale-08-27-2016-6035
END:VEVENT

END:VCALENDAR
