BEGIN:VCALENDAR
VERSION:2.0
PRODID:-//ChamberMaster//Event Calendar 2.0//EN
METHOD:PUBLISH
X-PUBLISHED-TTL:P3D
REFRESH-INTERVAL:P3D
CALSCALE:GREGORIAN
BEGIN:VEVENT
DTSTART:20140809T130000Z
DTEND:20140810T170000Z
X-MICROSOFT-CDO-ALLDAYEVENT:FALSE
SUMMARY:The Gathering Place Warehouse Home Furnishings Sale
DESCRIPTION:20% off select items and 50% off all sofas are for sale at The Gathering Place Warehouse. The sale takes place on Saturday\, August 9th from 9:00am-1:00pm and Sunday\, August 10th from 10:00am-1:00pm at The Gathering Place Warehouse located at 4911 Commerce Parkway in Warrensville Heights.
X-ALT-DESC;FMTTYPE=text/html:20% off select items and 50% off all sofas are for sale at The Gathering Place Warehouse. The sale takes place on Saturday\, August 9th from 9:00am-1:00pm and Sunday\, August 10th from 10:00am-1:00pm at The Gathering Place Warehouse located at 4911 Commerce Parkway in Warrensville Heights.
LOCATION:4911 Commerce Parkway\, Warrensville Heights\, OH 44128
UID:e.368.1163
SEQUENCE:3
DTSTAMP:20260420T044642Z
URL:https://public.beachwood.org/events/details/the-gathering-place-warehouse-home-furnishings-sale-08-09-2014-1163
END:VEVENT

END:VCALENDAR
