BEGIN:VCALENDAR
VERSION:2.0
PRODID:-//ChamberMaster//Event Calendar 2.0//EN
METHOD:PUBLISH
X-PUBLISHED-TTL:P3D
REFRESH-INTERVAL:P3D
CALSCALE:GREGORIAN
BEGIN:VEVENT
DTSTART:20150808T130000Z
DTEND:20150808T180000Z
X-MICROSOFT-CDO-ALLDAYEVENT:FALSE
SUMMARY:The Gathering Place Warehouse Home Furnishings Sale
DESCRIPTION:Shop at The Gathering Place Warehouse on Saturday\, August 8th\, 9:00am-2:00pm and Sunday\, August 9th\, 10:00am-1:00pm. Fine furnishings and beautiful home collectibles. Special pricing on dining room sets.\n\n\n\nCredit Card or Cash Only!\n\n\n\nThe warehouse is located at 4911 Commerce Parkway in Warrensville Heights. Call 216-595-9546 for more information.
X-ALT-DESC;FMTTYPE=text/html:Shop at The Gathering Place Warehouse on Saturday\, August 8th\, 9:00am-2:00pm and Sunday\, August 9th\, 10:00am-1:00pm. Fine furnishings and beautiful home collectibles. Special pricing on dining room sets.<br />\n<br />\nCredit Card or Cash Only!<br />\n<br />\nThe warehouse is located at 4911 Commerce Parkway in Warrensville Heights. Call 216-595-9546 for more information.
LOCATION:4911 Commerce Parkway\, Warrensville Heights\, OH 44128
UID:e.368.3777
SEQUENCE:3
DTSTAMP:20260420T014540Z
URL:https://public.beachwood.org/events/details/the-gathering-place-warehouse-home-furnishings-sale-08-08-2015-3777
END:VEVENT

END:VCALENDAR
