BEGIN:VCALENDAR
VERSION:2.0
PRODID:-//ChamberMaster//Event Calendar 2.0//EN
METHOD:PUBLISH
X-PUBLISHED-TTL:P3D
REFRESH-INTERVAL:P3D
CALSCALE:GREGORIAN
BEGIN:VEVENT
DTSTART:20140621T130000Z
DTEND:20140622T170000Z
X-MICROSOFT-CDO-ALLDAYEVENT:FALSE
SUMMARY:The Gathering Place Warehouse Home Furnishings Sale
DESCRIPTION:Check out the beautiful new inventory of furniture\, jewelry and household items for sale at The Gathering Place Warehouse. The sale takes place on Saturday\, June 21st from 9:00am-1:00pm and Sunday\, June 22nd from 10:00am-1:00pm at The Gathering Place Warehouse located at 4911 Commerce Parkway in Warrensville Heights.
X-ALT-DESC;FMTTYPE=text/html:Check out the beautiful new inventory of furniture\, jewelry and household items for sale at The Gathering Place Warehouse. The sale takes place on Saturday\, June 21st from 9:00am-1:00pm and Sunday\, June 22nd from 10:00am-1:00pm at The Gathering Place Warehouse located at 4911 Commerce Parkway in Warrensville Heights.
LOCATION:4911 Commerce Parkway Warrensville Heights\, Ohio 44128
UID:e.368.1133
SEQUENCE:3
DTSTAMP:20260420T061038Z
URL:https://public.beachwood.org/events/details/the-gathering-place-warehouse-home-furnishings-sale-06-21-2014-1133
END:VEVENT

END:VCALENDAR
