BEGIN:VCALENDAR
VERSION:2.0
PRODID:-//ChamberMaster//Event Calendar 2.0//EN
METHOD:PUBLISH
X-PUBLISHED-TTL:P3D
REFRESH-INTERVAL:P3D
CALSCALE:GREGORIAN
BEGIN:VEVENT
DTSTART:20150503T140000Z
DTEND:20150503T170000Z
X-MICROSOFT-CDO-ALLDAYEVENT:FALSE
SUMMARY:The Gathering Place Warehouse Home Furnishings Sale
DESCRIPTION:The Gathering Place Warehouse is having a sale on Saturday\, May 2nd from 9am-2pm and Sunday\, May 3rd from 10am-1pm at 4911 Commerce Parkway in Warrensville Heights. This is a special anniversary sale.\n\n\n\nProceeds support the free programs and services at The Gathering Place for individuals and families touched by cancer. For more information call 216.595.9546.
X-ALT-DESC;FMTTYPE=text/html:The Gathering Place Warehouse is having a sale on Saturday\, May 2nd from 9am-2pm and Sunday\, May 3rd from 10am-1pm at 4911 Commerce Parkway in Warrensville Heights. This is a special anniversary sale.<br />\n<br />\nProceeds support the free programs and services at The Gathering Place for individuals and families touched by cancer. For more information call 216.595.9546.
LOCATION:4911 Commerce Parkway\, Warrensville Heights\, OH 44128
UID:e.368.3723
SEQUENCE:3
DTSTAMP:20260419T121445Z
URL:https://public.beachwood.org/events/details/the-gathering-place-warehouse-home-furnishings-sale-05-03-2015-3723
END:VEVENT

END:VCALENDAR
