BEGIN:VCALENDAR
VERSION:2.0
PRODID:-//ChamberMaster//Event Calendar 2.0//EN
METHOD:PUBLISH
X-PUBLISHED-TTL:P3D
REFRESH-INTERVAL:P3D
CALSCALE:GREGORIAN
BEGIN:VEVENT
DTSTART:20140426T130000Z
DTEND:20140427T170000Z
X-MICROSOFT-CDO-ALLDAYEVENT:FALSE
SUMMARY:The Gathering Place Warehouse Home Furnishings Sale
DESCRIPTION:The Gathering Place Warehouse is having a fabulous sale on Saturday\, April 26th from 9am-2pm and Sunday\, April 27th from 10am-1pm at 4911 Commerce Parkway in Warrensville Heights.\n\n\n\nWe have a quality selection of beautiful fine furniture at an extraordinary value. For more information call 216.595.9546.\n\n\n\nProceeds support the free programs and services at The Gathering Place for individuals and families touched by cancer.\n\n\n\n**Actual merchandise shown may not be available on the day of the sale**
X-ALT-DESC;FMTTYPE=text/html:The Gathering Place Warehouse is having a fabulous sale on Saturday\, April 26th from 9am-2pm and Sunday\, April 27th from 10am-1pm at 4911 Commerce Parkway in Warrensville Heights.<br />\n<br />\nWe have a quality selection of beautiful fine furniture at an extraordinary value. For more information call 216.595.9546.<br />\n<br />\nProceeds support the free programs and services at The Gathering Place for individuals and families touched by cancer.<br />\n<br />\n**Actual merchandise shown may not be available on the day of the sale**
LOCATION:4911 Commerce Parkway Warrensville Heights\, Ohio 44128
UID:e.368.1126
SEQUENCE:3
DTSTAMP:20260420T090709Z
URL:https://public.beachwood.org/events/details/the-gathering-place-warehouse-home-furnishings-sale-04-26-2014-1126
END:VEVENT

END:VCALENDAR
