BEGIN:VCALENDAR
VERSION:2.0
PRODID:-//ChamberMaster//Event Calendar 2.0//EN
METHOD:PUBLISH
X-PUBLISHED-TTL:P3D
REFRESH-INTERVAL:P3D
CALSCALE:GREGORIAN
BEGIN:VEVENT
DTSTART:20150215T150000Z
DTEND:20150215T170000Z
X-MICROSOFT-CDO-ALLDAYEVENT:FALSE
SUMMARY:The Gathering Place Warehouse Home Furnishings Sale
DESCRIPTION:The Gathering Place Warehouse has beautiful furniture at great prices for that empty space in your home. Items include custom furniture\, unique collectibles and costume jewelry. Select items 50% off. Proceeds support the free programs and services at The Gathering Place for individuals and families touched by cancer.
X-ALT-DESC;FMTTYPE=text/html:The Gathering Place Warehouse has beautiful furniture at great prices for that empty space in your home. Items include custom furniture\, unique collectibles and costume jewelry. Select items 50% off. Proceeds support the free programs and services at The Gathering Place for individuals and families touched by cancer.
LOCATION:4911 Commerce Pkwy Warrensville Heights\, OH 44128
UID:e.368.1296
SEQUENCE:3
DTSTAMP:20260419T190738Z
URL:https://public.beachwood.org/events/details/the-gathering-place-warehouse-home-furnishings-sale-02-15-2015-1296
END:VEVENT

END:VCALENDAR
