BEGIN:VCALENDAR
VERSION:2.0
PRODID:-//ChamberMaster//Event Calendar 2.0//EN
METHOD:PUBLISH
X-PUBLISHED-TTL:P3D
REFRESH-INTERVAL:P3D
CALSCALE:GREGORIAN
BEGIN:VEVENT
DTSTART:20170212T160000Z
DTEND:20170212T180000Z
X-MICROSOFT-CDO-ALLDAYEVENT:FALSE
SUMMARY:The Gathering Place Warehouse Home Furnishings Sale
DESCRIPTION:Shop at The Gathering Place Warehouse on Sunday\, February 12th\, 11:00am-1:00pm. Great selection of fine furniture\, home collectibles and costume jewelry. $25 off one item priced $100 or more. *Actual merchandise shown may not be available on the day of the sale*
X-ALT-DESC;FMTTYPE=text/html:Shop at The Gathering Place Warehouse on Sunday\, February 12th\, 11:00am-1:00pm. Great selection of fine furniture\, home collectibles and costume jewelry. $25 off one item priced $100 or more. *Actual merchandise shown may not be available on the day of the sale*
LOCATION:4911 Commerce Parkway Warrensville Heights\, Ohio 44128
UID:e.368.6281
SEQUENCE:3
DTSTAMP:20260421T012201Z
URL:https://public.beachwood.org/events/details/the-gathering-place-warehouse-home-furnishings-sale-02-12-2017-6281
END:VEVENT

END:VCALENDAR
