BEGIN:VCALENDAR
VERSION:2.0
PRODID:-//ChamberMaster//Event Calendar 2.0//EN
METHOD:PUBLISH
X-PUBLISHED-TTL:P3D
REFRESH-INTERVAL:P3D
CALSCALE:GREGORIAN
BEGIN:VEVENT
DTSTART:20170211T140000Z
DTEND:20170211T180000Z
X-MICROSOFT-CDO-ALLDAYEVENT:FALSE
SUMMARY:The Gathering Place Warehouse Home Furnishings Sale
DESCRIPTION:Shop at The Gathering Place Warehouse on Saturday\, February 11th\, 9:00am-1:00pm and Sunday\, February 12th\, 11:00am-1:00pm. Great selection of fine furniture\, home collectibles and costume jewelry. $25 off one item priced $100 or more.
X-ALT-DESC;FMTTYPE=text/html:Shop at The Gathering Place Warehouse on Saturday\, February 11th\, 9:00am-1:00pm and Sunday\, February 12th\, 11:00am-1:00pm. Great selection of fine furniture\, home collectibles and costume jewelry. $25 off one item priced $100 or more.
LOCATION:4911 Commerce Parkway Warrensville Heights\, Ohio 44128
UID:e.368.6280
SEQUENCE:3
DTSTAMP:20260421T012200Z
URL:https://public.beachwood.org/events/details/the-gathering-place-warehouse-home-furnishings-sale-02-11-2017-6280
END:VEVENT

END:VCALENDAR
