BEGIN:VCALENDAR
VERSION:2.0
PRODID:-//ChamberMaster//Event Calendar 2.0//EN
METHOD:PUBLISH
X-PUBLISHED-TTL:P3D
REFRESH-INTERVAL:P3D
CALSCALE:GREGORIAN
BEGIN:VEVENT
DTSTART:20190113T140000Z
DTEND:20190113T180000Z
X-MICROSOFT-CDO-ALLDAYEVENT:FALSE
SUMMARY:The Gathering Place Warehouse Home Furnishings Sale
DESCRIPTION:New items priced to sell! Quality furniture\, lovely home accessories and costume jewelry.\n\n\n\nProceeds from sales at the warehouse help us to provide free programs and services to those currently coping with cancer.
X-ALT-DESC;FMTTYPE=text/html:New items priced to sell! Quality furniture\, lovely home accessories and costume jewelry.<br />\n<br />\nProceeds from sales at the warehouse help us to provide free programs and services to those currently coping with cancer.
LOCATION:4911 Commerce Parkway\, Warrensville Heights\, OH 44128
UID:e.368.8006
SEQUENCE:3
DTSTAMP:20260420T112856Z
URL:https://public.beachwood.org/events/details/the-gathering-place-warehouse-home-furnishings-sale-01-13-2019-8006
END:VEVENT

END:VCALENDAR
