BEGIN:VCALENDAR
VERSION:2.0
PRODID:-//ChamberMaster//Event Calendar 2.0//EN
METHOD:PUBLISH
X-PUBLISHED-TTL:P3D
REFRESH-INTERVAL:P3D
CALSCALE:GREGORIAN
BEGIN:VEVENT
DTSTART:20160109T140000Z
DTEND:20160109T190000Z
X-MICROSOFT-CDO-ALLDAYEVENT:FALSE
SUMMARY:The Gathering Place Warehouse Home Furnishings Sale
DESCRIPTION:Didn't get everything you wanted for the holidays? Shop at The Gathering Place Warehouse on Saturday\, January 9th\, 9:00am-2:00pm and Sunday\, January 10th\, 10:00am-1:00pm. All merchandise is priced 50% off. Proceeds from sales at the warehouse help The Gathering Place provide free programs and services to those touched by cancer.\n\n\n\nCredit Card or Cash Only.\n\n\n\nThe warehouse is located at 4911 Commerce Parkway in Warrensville Heights. Call 216-595-9546 for more information.
X-ALT-DESC;FMTTYPE=text/html:Didn&#39\;t get everything you wanted for the holidays? Shop at The Gathering Place Warehouse on Saturday\, January 9th\, 9:00am-2:00pm and Sunday\, January 10th\, 10:00am-1:00pm. All merchandise is priced 50% off. Proceeds from sales at the warehouse help The Gathering Place provide free programs and services to those touched by cancer.<br />\n<br />\nCredit Card or Cash Only.<br />\n<br />\nThe warehouse is located at 4911 Commerce Parkway in Warrensville Heights. Call 216-595-9546 for more information.
LOCATION:4911 Commerce Parkway Warrensville Heights\, OH 44128
UID:e.368.4815
SEQUENCE:3
DTSTAMP:20260420T074734Z
URL:https://public.beachwood.org/events/details/the-gathering-place-warehouse-home-furnishings-sale-01-09-2016-4815
END:VEVENT

END:VCALENDAR
