BEGIN:VCALENDAR
VERSION:2.0
PRODID:-//ChamberMaster//Event Calendar 2.0//EN
METHOD:PUBLISH
X-PUBLISHED-TTL:P3D
REFRESH-INTERVAL:P3D
CALSCALE:GREGORIAN
BEGIN:VEVENT
DTSTART;VALUE=DATE:20090513
DTEND;VALUE=DATE:20090514
TRANSP:TRANSPARENT
X-MICROSOFT-CDO-ALLDAYEVENT:TRUE
SUMMARY:The First 100 Days
DESCRIPTION:EXECUTIVE CATERERSCorporate Club at Landerhaven Series THE FIRST 100 DAYSWednesday\, May 13\, 200911:30 am Registration12 Noon Program & Luncheon Brent Larkin\, Editorial Page Director\, The Plain DealerTom Beres\, Senior Political Correspondent\, WKYC-TV 3Peter Lawson Jones\, President\, Cuyahoga County Commissioners Moderated by: Dick Feagler\, Host of "Feagler & Friends"\, WVIZ ideastream
X-ALT-DESC;FMTTYPE=text/html:<div>EXECUTIVE CATERERS</div><div>Corporate Club at Landerhaven Series</div><div>&nbsp\;</div><div>THE FIRST 100 DAYS</div><div>Wednesday\, May 13\, 2009</div><div>11:30 am Registration</div><div>12 Noon Program &amp\; Luncheon</div><div>&nbsp\;</div><div>Brent Larkin\, Editorial Page Director\, The Plain Dealer</div><div>Tom Beres\, Senior Political Correspondent\, WKYC-TV 3</div><div>Peter Lawson Jones\, President\, Cuyahoga County Commissioners</div><div>&nbsp\;</div><div>Moderated by: Dick Feagler\, Host of &quot\;Feagler &amp\; Friends&quot\;\, WVIZ ideastream</div>
LOCATION:Executive Caterers at Landerhaven
UID:e.368.187
SEQUENCE:3
DTSTAMP:20260423T193252Z
URL:https://public.beachwood.org/events/details/the-first-100-days-05-13-2009-187
END:VEVENT

END:VCALENDAR
