BEGIN:VCALENDAR
VERSION:2.0
PRODID:-//ChamberMaster//Event Calendar 2.0//EN
METHOD:PUBLISH
X-PUBLISHED-TTL:P3D
REFRESH-INTERVAL:P3D
CALSCALE:GREGORIAN
BEGIN:VEVENT
DTSTART:20150628T000000Z
DTEND:20150628T030000Z
X-MICROSOFT-CDO-ALLDAYEVENT:FALSE
SUMMARY:The Extremes at Valenti's!
DESCRIPTION:Saturday   June 27   VALENTI'S\n\n3365 Richmond Rd #130 - Beachwood 44122 - 8:30pm-11:30pm \n\n\nAnother cool Italian restaurant with Great food!\n\n \n\n\nINTRODUCING THE NEW EXTREMES!\n\nHave you been out to see THE EXTREMES lately?!?!? With the recent addition of Bill Uhler on Bass & Vocals and Jim Roberts on Sax & Vocals the musicianship is at an all time high. Arguably the best line up since Tony & Billy formed the band in early 2008 ..Stop out and see why!!\n\n \n\n\nThe EXTREMES:                                     \n\n\n \n\n\n\nBilly Capuano   Guitar & Vocals\n\n\nTony Mazzone   Drums & Vocals\n\n\nBill Uhler - Bass & Vocals\n\nJim Roberts - Sax & Vocals
X-ALT-DESC;FMTTYPE=text/html:<div><strong><u><span style="color:rgb(255\, 0\, 0)"><span style="background-color:rgb(255\, 255\, 0)">Saturday &ndash\; June 27 &ndash\; VALENTI&#39\;S</span></span></u></strong></div>\n\n<div><span style="color:rgb(0\, 0\, 0)">3365 Richmond Rd #130 - Beachwood 44122 - 8:30pm-11:30pm</span>&nbsp\;</div>\n\n<div>\n<div><strong><em>Another cool Italian restaurant with Great food!</em></strong></div>\n\n<div>&nbsp\;</div>\n\n<div>\n<div><strong><em><span style="color:rgb(136\, 136\, 136)"><span style="color:rgb(0\, 0\, 255)">INTRODUCING THE NEW EXTREMES!</span></span></em></strong></div>\n\n<div><strong><em><span style="color:rgb(136\, 136\, 136)"><span style="color:rgb(0\, 0\, 255)">Have you been out to see THE EXTREMES lately?!?!? With the recent addition of Bill Uhler on Bass &amp\; Vocals and Jim Roberts on Sax &amp\; Vocals the musicianship is at an all time high. Arguably the best line up since Tony &amp\; Billy formed the band in early 2008&hellip\;..Stop out and see why!!</span></span></em></strong></div>\n\n<div>&nbsp\;</div>\n</div>\n\n<div><strong><u><span style="color:rgb(0\, 0\, 0)">The EXTREMES:</span>&nbsp\; &nbsp\; &nbsp\; &nbsp\; &nbsp\; &nbsp\; &nbsp\; &nbsp\; &nbsp\; &nbsp\; &nbsp\; &nbsp\; &nbsp\; &nbsp\; &nbsp\; &nbsp\; &nbsp\; &nbsp\; &nbsp\;</u></strong></div>\n</div>\n\n<div>&nbsp\;</div>\n\n<div>\n<div>\n<div><span style="font-family:tahoma\,sans-serif\; font-size:10pt"><span style="font-family:tahoma\,sans-serif\; font-size:10pt"><span style="color:rgb(0\, 0\, 0)"><span style="font-size:12pt"><em><strong><span style="font-family:tahoma\,sans-serif">Billy Capuano</span></strong><span style="font-family:tahoma\,sans-serif">&nbsp\;&ndash\; Guitar &amp\; Vocals</span></em></span></span></span></span></div>\n</div>\n\n<div><span style="font-family:tahoma\,sans-serif\; font-size:10pt"><span style="color:rgb(0\, 0\, 0)\; font-size:12pt"><span style="font-family:tahoma\,sans-serif"><span style="font-size:12pt"><em><strong>Tony Mazzone</strong>&nbsp\;&ndash\; Drums &amp\; Vocals</em></span></span></span></span></div>\n</div>\n\n<div><span style="font-size:10pt"><span style="color:rgb(255\, 0\, 0)"><span style="background-color:rgb(255\, 255\, 0)"><span style="font-size:14pt"><span style="background-color:rgb(255\, 255\, 255)"><span style="font-size:12pt"><span style="background-color:rgb(255\, 255\, 0)"><span style="background-color:rgb(255\, 255\, 255)"><span style="color:rgb(0\, 0\, 0)"><span style="font-family:tahoma\,sans-serif"><span style="background-color:rgb(255\, 255\, 0)"><span style="font-family:tahoma\,sans-serif"><span style="background-color:rgb(255\, 255\, 255)"><span style="color:rgb(0\, 0\, 0)\; font-size:12pt"><span style="background-color:rgb(255\, 255\, 255)\; color:rgb(0\, 0\, 0)"><span style="font-size:10pt"><span style="color:rgb(255\, 0\, 0)"><span style="background-color:rgb(255\, 255\, 0)"><span style="font-size:14pt"><span style="background-color:rgb(255\, 255\, 255)"><span style="font-size:12pt"><span style="background-color:rgb(255\, 255\, 0)"><span style="background-color:rgb(255\, 255\, 255)"><span style="font-family:tahoma\,sans-serif"><span style="color:rgb(0\, 0\, 0)"><span style="font-size:12pt"><em><strong>Bill Uhler</strong>&nbsp\;- Bass &amp\; Vocals</em></span></span></span></span></span></span></span></span></span></span></span></span></span></span></span></span></span></span></span></span></span></span></span></span></span></span></div>\n\n<div><span style="font-size:10pt"><span style="color:rgb(255\, 0\, 0)"><span style="background-color:rgb(255\, 255\, 0)"><span style="font-size:14pt"><span style="background-color:rgb(255\, 255\, 255)"><span style="font-size:12pt"><span style="background-color:rgb(255\, 255\, 0)"><span style="background-color:rgb(255\, 255\, 255)"><span style="color:rgb(0\, 0\, 0)"><span style="font-family:tahoma\,sans-serif"><span style="background-color:rgb(255\, 255\, 0)"><span style="font-family:tahoma\,sans-serif"><span style="background-color:rgb(255\, 255\, 255)"><span style="color:rgb(0\, 0\, 0)\; font-size:12pt"><span style="background-color:rgb(255\, 255\, 255)\; color:rgb(0\, 0\, 0)"><span style="font-size:10pt"><span style="color:rgb(255\, 0\, 0)"><span style="background-color:rgb(255\, 255\, 0)"><span style="font-size:14pt"><span style="background-color:rgb(255\, 255\, 255)"><span style="font-size:12pt"><span style="background-color:rgb(255\, 255\, 0)"><span style="background-color:rgb(255\, 255\, 255)"><span style="font-family:tahoma\,sans-serif"><span style="color:rgb(0\, 0\, 0)"><span style="font-size:12pt"><em><strong>Jim Roberts</strong> - Sax &amp\; Vocals</em></span></span></span></span></span></span></span></span></span></span></span></span></span></span></span></span></span></span></span></span></span></span></span></span></span></span></div>\n
LOCATION:3365 Richmond Road Suite 130
UID:e.368.3758
SEQUENCE:3
DTSTAMP:20260419T213415Z
URL:https://public.beachwood.org/events/details/the-extremes-at-valenti-s-06-27-2015-3758
END:VEVENT

END:VCALENDAR
