BEGIN:VCALENDAR
VERSION:2.0
PRODID:-//ChamberMaster//Event Calendar 2.0//EN
METHOD:PUBLISH
X-PUBLISHED-TTL:P3D
REFRESH-INTERVAL:P3D
CALSCALE:GREGORIAN
BEGIN:VEVENT
DTSTART:20160126T000000Z
DTEND:20160126T013000Z
X-MICROSOFT-CDO-ALLDAYEVENT:FALSE
SUMMARY:The Danish Girl : A Special Movie Tie In Book Discussion
DESCRIPTION:Come discuss the book that inspired the film The Danish Girl. The books author\, David Ebershoff will join us live via Skype!\n\nLoosely inspired by a true story\, and a New York Times Notable Book\, this tender portrait of marriage and identity asks: What do you do when the person you love has to change? It starts with a question\, a simple favor asked by a wife of her husband while both are painting in their studio\, setting off a transformation neither can anticipate. Uniting fact and fiction into an original romantic vision\, The Danish Girl eloquently portrays the unique intimacy that defines every marriage and the heroic story of Lili Elbe\, a pioneer in transgender history\, and the woman torn between loyalty to her marriage and her own ambitions and desires. Book available at the Library.
X-ALT-DESC;FMTTYPE=text/html:Come discuss the book that inspired the film The Danish Girl. The books author\, David Ebershoff will join us live via Skype!<br />\nLoosely inspired by a true story\, and a New York Times Notable Book\, this tender portrait of marriage and identity asks: What do you do when the person you love has to change? It starts with a question\, a simple favor asked by a wife of her husband while both are painting in their studio\, setting off a transformation neither can anticipate. Uniting fact and fiction into an original romantic vision\, The Danish Girl eloquently portrays the unique intimacy that defines every marriage and the heroic story of Lili Elbe\, a pioneer in transgender history\, and the woman torn between loyalty to her marriage and her own ambitions and desires. Book available at the Library.
LOCATION:Beachwood Branch of Cuyahoga County Public Library 25501 Shaker Blvd Beachwood OH 44122
UID:e.368.4813
SEQUENCE:3
DTSTAMP:20260420T074607Z
URL:https://public.beachwood.org/events/details/the-danish-girl-a-special-movie-tie-in-book-discussion-01-25-2016-4813
END:VEVENT

END:VCALENDAR
