BEGIN:VCALENDAR
VERSION:2.0
PRODID:-//ChamberMaster//Event Calendar 2.0//EN
METHOD:PUBLISH
X-PUBLISHED-TTL:P3D
REFRESH-INTERVAL:P3D
CALSCALE:GREGORIAN
BEGIN:VEVENT
DTSTART:20161109T233000Z
DTEND:20161110T010000Z
X-MICROSOFT-CDO-ALLDAYEVENT:FALSE
SUMMARY:The Alzheimer's Tsunami: Preparing for the Worst
DESCRIPTION:Every 66 seconds another American is diagnosed with Alzheimer's disease. It's not only the 6th leading cause of death in America\, but the only disease among the Top 10 that we can't stop\, slow down\, or prevent. The good news is there are steps you can take now to prepare physically\, emotionally\, and financially if you or a loved one is diagnosed with Alzheimer's or another form of dementia. \n\n \n\nThat's where your Planned Financial Services (PFS) team can help. At PFS\, your family's best interest is always top of mind. Your team strives to consistently provide you with the education\, actionable advice\, and guidance to help you make important life decisions that not only impact you and loved ones today\, but in the years to come. \n\n\n\nYou and a guest are invited to join us for an exclusive\, one-time educational event featuring our dynamic guest speaker and Chairman Emeritus\, Dallas Chapter of the Alzheimer's Association\, Jack Broyles of Jack Broyles and Associates. Jack has created a very compelling and powerful presentation as a result of his own experience caring for a family member diagnosed with this devastating disease. This informational session is designed to provide you with the education and tools needed to:\n\n\n	Better understand how Alzheimer's and other types of dementia impact loved ones and their family members\n	Plan for the growing costs associated with dementia \n	Prepare and execute important legal\, financial\, and medical documents\n	Learn about resources available for patients\, caregivers\, and their families
X-ALT-DESC;FMTTYPE=text/html:<span style="font-family:arial\,sans-serif"><span style="font-size:10.0pt">Every 66 seconds another American is diagnosed with Alzheimer&rsquo\;s disease. It&rsquo\;s not only the 6<sup>th</sup> leading cause of death in America\, but the only disease among the Top 10 that we can&rsquo\;t stop\, slow down\, or prevent. The good news is there are steps you can take now to <strong><span style="color:#002060">prepare physically\, emotionally\, and financially</span></strong> if you or a loved one is diagnosed with Alzheimer&rsquo\;s or another form of dementia. </span></span><br />\n&nbsp\;<br />\n<span style="font-family:arial\,sans-serif"><span style="font-size:10.0pt">That&rsquo\;s where your Planned Financial Services (PFS) team can help.</span></span><span style="font-family:arial\,sans-serif"><span style="font-size:10.0pt"> At PFS\, your family&rsquo\;s best interest is always top of mind. Your team strives to consistently provide you with the education\, actionable advice\, and guidance to help you make important life decisions that not only impact you and loved ones today\, but in the years to come. </span></span><br />\n<br />\n<strong><span style="color:#002060"><span style="font-family:arial\,sans-serif"><span style="font-size:10.0pt">You and a guest </span></span></span></strong><span style="font-family:arial\,sans-serif"><span style="font-size:10.0pt">are invited to join us for an exclusive\, </span></span><strong><span style="color:#002060"><span style="font-family:arial\,sans-serif"><span style="font-size:10.0pt">one-time</span></span></span></strong><span style="color:#002060"><span style="font-family:arial\,sans-serif"><span style="font-size:10.0pt"> <strong>educational event</strong></span></span></span><span style="font-family:arial\,sans-serif"><span style="font-size:10.0pt"> featuring our dynamic guest speaker and </span></span><span style="font-size:10.0pt">Chairman <em>Emeritus\, </em>Dallas Chapter of the Alzheimer&rsquo\;s Association\, </span><span style="font-family:arial\,sans-serif"><span style="font-size:10.0pt">Jack Broyles of Jack Broyles and Associates. Jack has created a very compelling and powerful presentation as a result of his own experience caring for a family member diagnosed with this devastating disease. This informational session is designed to provide you with the education and tools needed to:</span></span>\n\n<ul>\n	<li style="text-align:justify"><span style="font-family:arial\,sans-serif"><span style="font-size:10.0pt">Better understand how Alzheimer&rsquo\;s and other types of dementia impact loved ones and their family members</span></span></li>\n	<li style="text-align:justify"><span style="font-family:arial\,sans-serif"><span style="font-size:10.0pt">Plan for the growing costs associated with dementia </span></span></li>\n	<li style="text-align:justify"><span style="font-family:arial\,sans-serif"><span style="font-size:10.0pt">Prepare and execute important legal\, financial\, and medical documents</span></span></li>\n	<li style="text-align:justify"><span style="font-family:arial\,sans-serif"><span style="font-size:10.0pt">Learn about resources available for patients\, caregivers\, and their families</span></span></li>\n</ul>\n
LOCATION:Corporate College East 4400 Richmond Road\, Room 238 Warrensville Heights\, Ohio 44128
UID:e.368.6053
SEQUENCE:3
DTSTAMP:20260420T211125Z
URL:https://public.beachwood.org/events/details/the-alzheimer-s-tsunami-preparing-for-the-worst-6053
END:VEVENT

END:VCALENDAR
