BEGIN:VCALENDAR
VERSION:2.0
PRODID:-//ChamberMaster//Event Calendar 2.0//EN
METHOD:PUBLISH
X-PUBLISHED-TTL:P3D
REFRESH-INTERVAL:P3D
CALSCALE:GREGORIAN
BEGIN:VEVENT
DTSTART:20090610T123000Z
DTEND:20090611T023000Z
X-MICROSOFT-CDO-ALLDAYEVENT:FALSE
SUMMARY:the abc's of today's technology
DESCRIPTION:Warwick understands that organizations are challenged with evolving their business with an ever-shrinking pool of funds.  Please join us for a FREE seminar as we discuss Voice over IP (VoIP)\, Audio/Web Conferencing\, Computer Telephony Integration (CTI) and Unified Messaging.
X-ALT-DESC;FMTTYPE=text/html:Warwick understands that organizations are challenged with evolving their business with an ever-shrinking pool of funds.  Please join us for a FREE seminar as we discuss Voice over IP (VoIP)\, Audio/Web Conferencing\, Computer Telephony Integration (CTI) and Unified Messaging.
LOCATION:Warwick Communications\, Inc. 2806 Payne Avenue Cleveland\, Ohio 44114
UID:e.368.219
SEQUENCE:3
DTSTAMP:20260423T171529Z
URL:https://public.beachwood.org/events/details/the-abc-s-of-today-s-technology-06-10-2009-219
END:VEVENT

END:VCALENDAR
