BEGIN:VCALENDAR
VERSION:2.0
PRODID:-//ChamberMaster//Event Calendar 2.0//EN
METHOD:PUBLISH
X-PUBLISHED-TTL:P3D
REFRESH-INTERVAL:P3D
CALSCALE:GREGORIAN
BEGIN:VEVENT
DTSTART:20170524T200000Z
DTEND:20170524T223000Z
X-MICROSOFT-CDO-ALLDAYEVENT:FALSE
SUMMARY:The 9th Annual Cleveland Economic Summit
DESCRIPTION:Bring a guest(s) and join us for this entertaining and informative late afternoon event featuring two distinguished speakers: Emily R. Roland\, CIMA \, Head of Investment Research at John Hancock Investments and Eric Embacher\, Visitor Experience Program Manager at Destination Cleveland. Our featured speakers will join your host\, Frank Fantozzi\, President and Founder of Planned Financial Services\, in providing investors\, business leaders\, and taxpayers with keen insight on how the new White House administration is reshaping the financial\, political\, economic\, and tax landscapes\, and how unprecedented new development is driving tourism and business growth throughout the Greater Cleveland area.
X-ALT-DESC;FMTTYPE=text/html:<span style="font-family:arial\,sans-serif"><span style="font-size:10pt">Bring a guest(s) and join us for this entertaining and informative late afternoon event featuring two distinguished speakers: <strong>Emily R. Roland\, CIMA</strong></span></span><strong><sup><span style="font-family:arial\,sans-serif"><span style="font-size:10pt">&reg\;</span></span></sup></strong><strong><span style="font-family:arial\,sans-serif"><span style="font-size:10pt">\, </span></span></strong><span style="font-family:arial\,sans-serif"><span style="font-size:10pt">Head of Investment Research at John Hancock Investments and <strong>Eric Embacher\, </strong>Visitor Experience Program Manager at Destination Cleveland. Our featured speakers will join your host\, <strong>Frank Fantozzi</strong>\, President and Founder of Planned Financial Services\, in providing investors\, business leaders\, and taxpayers with keen insight on how the new White House administration is reshaping the financial\, political\, economic\, and tax landscapes\, and how unprecedented new development is driving tourism and business growth throughout the Greater Cleveland area. </span></span><br />\n&nbsp\;
LOCATION:Cleveland Botanical Garden - Woodland Hall 11030 East Boulevard Cleveland\, OH 44106 Complimentary Parking at onsite parking garage (Validate parking ticket with attendant upon arrival.) The Garden will remain open until 9:00 pm following the Economic Summit. Stroll through\, experience\, and become inspired by all it has to offer!
UID:e.368.6293
SEQUENCE:3
DTSTAMP:20260421T053205Z
URL:https://public.beachwood.org/events/details/the-9th-annual-cleveland-economic-summit-6293
END:VEVENT

END:VCALENDAR
