BEGIN:VCALENDAR
VERSION:2.0
PRODID:-//ChamberMaster//Event Calendar 2.0//EN
METHOD:PUBLISH
X-PUBLISHED-TTL:P3D
REFRESH-INTERVAL:P3D
CALSCALE:GREGORIAN
BEGIN:VEVENT
DTSTART;VALUE=DATE:20151106
DTEND;VALUE=DATE:20151107
TRANSP:TRANSPARENT
X-MICROSOFT-CDO-ALLDAYEVENT:TRUE
SUMMARY:The 6th Annual Miracles and Magic - A benefit for A Kid Again
DESCRIPTION:Join A Kid Again for the 6th Annual Miracles and Magic on November 6th!\n\n\n\nHonorary Chair:  Bruce Hooley from ESPN Cleveland Radio\n\nThis event sold out last year\, so make sure to get your tickets now!
X-ALT-DESC;FMTTYPE=text/html:<p>Join A Kid Again for the 6th Annual Miracles and Magic on November 6th!<br />\n<br />\nHonorary Chair:&nbsp\; Bruce Hooley from ESPN Cleveland Radio</p>\n\n<p>This event sold out last year\, so make sure to get your tickets now!<br />\n<br />\n<br />\n<br />\n&nbsp\;</p>\n
LOCATION:Maggiano's Little Italy Beachwood Place 26300 Cedar Road Beachwood\, OH 44122
UID:e.368.3793
SEQUENCE:3
DTSTAMP:20260420T060815Z
URL:https://public.beachwood.org/events/details/the-6th-annual-miracles-and-magic-a-benefit-for-a-kid-again-11-06-2015-3793
END:VEVENT

END:VCALENDAR
