BEGIN:VCALENDAR
VERSION:2.0
PRODID:-//ChamberMaster//Event Calendar 2.0//EN
METHOD:PUBLISH
X-PUBLISHED-TTL:P3D
REFRESH-INTERVAL:P3D
CALSCALE:GREGORIAN
BEGIN:VEVENT
DTSTART:20141029T230000Z
DTEND:20141030T020000Z
X-MICROSOFT-CDO-ALLDAYEVENT:FALSE
SUMMARY:TASTES OF THE PACIFIC NORTHWEST WINE DINNER
DESCRIPTION:Join us for one special night of food and wine pairings inspired by the Pacific Northwest coast.
X-ALT-DESC;FMTTYPE=text/html:<p style="text-align: center\;"><br />\n<strong>Join us for one special night of food and wine pairings inspired by the Pacific Northwest coast.</strong></p>\n\n<p><br />\n&nbsp\;</p>\n
LOCATION:Mitchell's Fish Market
UID:e.368.1187
SEQUENCE:3
DTSTAMP:20260420T014453Z
URL:https://public.beachwood.org/events/details/tastes-of-the-pacific-northwest-wine-dinner-10-29-2014-1187
END:VEVENT

END:VCALENDAR
