BEGIN:VCALENDAR
VERSION:2.0
PRODID:-//ChamberMaster//Event Calendar 2.0//EN
METHOD:PUBLISH
X-PUBLISHED-TTL:P3D
REFRESH-INTERVAL:P3D
CALSCALE:GREGORIAN
BEGIN:VEVENT
DTSTART;VALUE=DATE:20090310
DTEND;VALUE=DATE:20090311
TRANSP:TRANSPARENT
X-MICROSOFT-CDO-ALLDAYEVENT:TRUE
SUMMARY:Taste of Power - Amer Heart Assn.
DESCRIPTION:Join the American Heart Association's Cleveland Metro office on Tuesday\, March 10th\, at the Cleveland Museum of Contemporary Art (MOCA) for the Taste of Power. Enjoy heart-healthy meals with Caribbean flabor\, plus a complimentary evening at MOCA. Bring the family and join the Heart Association as it tempts your taste budgs with heart healthy cuisine (desserts\, appetizers\, and main entrees). A professional dietician will be available onsite for consultation. For more information\, contact:Candace Wallace216-619-5140candace.wallace@heart.org
X-ALT-DESC;FMTTYPE=text/html:<div>Join the American Heart Association's Cleveland Metro office on Tuesday\, March 10th\, at the Cleveland Museum of Contemporary Art (MOCA)&nbsp\;for the Taste of Power.</div><div>&nbsp\;</div><div>Enjoy heart-healthy meals with Caribbean flabor\, plus a complimentary evening at MOCA. Bring the family and join the Heart Association as it tempts your taste budgs with heart healthy cuisine (desserts\, appetizers\, and main entrees).</div><div>&nbsp\;</div><div>A professional dietician will be available onsite for consultation.</div><div>&nbsp\;</div><div>For more information\, contact:</div><div>Candace Wallace</div><div>216-619-5140</div><div>candace.wallace@heart.org</div>
LOCATION:Museum of Contemporary Art (MOCA)8501 Carnegie AvenueCleveland
UID:e.368.167
SEQUENCE:3
DTSTAMP:20260423T203137Z
URL:https://public.beachwood.org/events/details/taste-of-power-amer-heart-assn-03-10-2009-167
END:VEVENT

END:VCALENDAR
