BEGIN:VCALENDAR
VERSION:2.0
PRODID:-//ChamberMaster//Event Calendar 2.0//EN
METHOD:PUBLISH
X-PUBLISHED-TTL:P3D
REFRESH-INTERVAL:P3D
CALSCALE:GREGORIAN
BEGIN:VEVENT
DTSTART:20170715T170000Z
DTEND:20170715T190000Z
X-MICROSOFT-CDO-ALLDAYEVENT:FALSE
SUMMARY:Taste of Eton
DESCRIPTION:Sample small bites from your favorite ETON restaurants while shopping the sidewalk sale.\n\n\n\n"Taste Tickets" will be available for purchase to try the different restaurant stations.\n\n\n\nTicket sale proceeds to benefit the programs of the National Council of Jewish Women/Cleveland (NCJW).
X-ALT-DESC;FMTTYPE=text/html:Sample small bites from your favorite ETON restaurants while shopping the sidewalk sale.<br />\n<br />\n&quot\;Taste Tickets&quot\; will be available for purchase to try the different restaurant stations.<br />\n<br />\nTicket sale proceeds to benefit the programs of the National Council of Jewish Women/Cleveland (NCJW).<br />\n&nbsp\;
LOCATION:Eton Chagrin Blvd. / Interior Mall Woodmere
UID:e.368.6329
SEQUENCE:3
DTSTAMP:20260421T093859Z
URL:https://public.beachwood.org/events/details/taste-of-eton-6329
END:VEVENT

END:VCALENDAR
