BEGIN:VCALENDAR
VERSION:2.0
PRODID:-//ChamberMaster//Event Calendar 2.0//EN
METHOD:PUBLISH
X-PUBLISHED-TTL:P3D
REFRESH-INTERVAL:P3D
CALSCALE:GREGORIAN
BEGIN:VEVENT
DTSTART:20080921T210000Z
DTEND:20080922T000000Z
X-MICROSOFT-CDO-ALLDAYEVENT:FALSE
SUMMARY:TASTE OF BEACHWOOD
DESCRIPTION:We look forward to seeing you on Sunday at Embassy Suites for the Taste of Beachwood. IF YOU DID NOT MAKE A RESERVATION OR NEED ADDITIONAL RESERVATIONS\, YOU MAY STILL ATTEND. \nCOST IS $25 PER PERSON\, PAYABLE AT THE EVENT.Taste of Beachwoodat Embassy Suites Presented by  Cleveland Clinic Regional Hospitals Join the Chamber on Sunday evening\, September 21st for its 1st annual Taste of Beachwood. Sample foods from area restaurants and caterers\, including:Hyde Park GrilleFleming's Prime Steakhouse & Wine BarMcCormick & Schmick'sMelangeSouth Pointe HospitalPaladarDiBella's Old Fashioned SubmarinesThe Melting PotMaggiano's Little ItalyRocky Mountain Chocolate FactoryMitchell's Fish MarketCostcoCaribou Coffee at La PlaceYours TrulyRistorante Giovannis\nAnd more!Cash Bar -- Adult Only Event\nReservations are required.  Cost is $25 per person\nLimited tickets available -- Only 250 reservations accepted.\nOnline reservations available.For businesses that would like to advertise or provide a discount coupon in our Directory given to all attendees\, please call the Chamber at 216-831-0003 or click here to download the order form/price sheet.
X-ALT-DESC;FMTTYPE=text/html:<p align="center">&nbsp\;</p><p align="center"><font face="Times New Roman" color="#333399" size="3">We look forward to seeing you on Sunday at Embassy Suites for the Taste of Beachwood. </font></p><p align="center"><font face="Times New Roman" color="#009900" size="3"><strong>IF YOU DID NOT MAKE A RESERVATION OR NEED ADDITIONAL RESERVATIONS\, YOU MAY STILL ATTEND.&nbsp\;<br />COST IS $25 PER PERSON\, PAYABLE&nbsp\;AT THE EVENT.</strong></font></p><p align="center"><font color="#333399" size="5"><font face="Times New Roman" color="#333399" size="5"><strong><em>Taste of Beachwood</em></strong></font></font></p><p align="center"><font color="#333399" size="5"><font face="Times New Roman" color="#333399" size="5"><strong><em>at Embassy Suites</em></strong></font></font></p><p align="center">&nbsp\;<font face="Times New Roman" color="#003366"><font color="#333399" size="5"><font face="Times New Roman"><font size="3">Presented by</font></font></font></font>&nbsp\;<font face="Times New Roman" color="#003366"> </font></p><div><font face="Times New Roman" color="#003366"><em><p align="center"><font face="Times New Roman" color="#003366" size="4"><strong><a target="_blank" href="http://www.cchseast.org">Cleveland Clinic Regional Hospitals</a></strong></font></p><p align="center"><font size="2">&nbsp\;<font face="Times New Roman" color="#003366">Join the Chamber on Sunday evening\, September 21st for its 1st annual Taste of Beachwood. Sample foods from area restaurants and caterers\, including:</font></font></p></em></font></div><ul><li><div align="left"><font face="Times New Roman" color="#000080"><font size="2"><a target="_blank" href="http://www.hydeparkrestaurants.com">Hyde Park Grille</a></font></font></div></li><li><div align="left"><font face="Times New Roman" color="#000080"><font size="2"><a target="_blank" href="http://www.flemingssteakhouse.com">Fleming&rsquo\;s Prime Steakhouse &amp\; Wine Bar</a></font></font></div></li><li><div align="left"><font face="Times New Roman" color="#000080"><font size="2"><a target="_blank" href="http://www.mccormickandschmicks.com">McCormick &amp\; Schmick&rsquo\;s</a></font></font></div></li><li><div align="left"><font face="Times New Roman" color="#000080"><font size="2"><a target="_blank" href="http://www.dinemelange.com">Melange</a></font></font></div></li><li><div align="left"><font face="Times New Roman" color="#000080"><font size="2"><a target="_blank" href="http://www.southpointehospital.org">South Pointe Hospital</a></font></font></div></li><li><div align="left"><font face="Times New Roman" color="#000080"><font size="2"><a target="_blank" href="http://www.paladarlatinkitchen.com">Paladar</a></font></font></div></li><li><div align="left"><font face="Times New Roman" color="#000080"><font size="2"><a target="_blank" href="http://www.dibellas.com">DiBella&rsquo\;s Old Fashioned Submarines</a></font></font></div></li><li><div align="left"><font face="Times New Roman" color="#000080"><font size="2"><a target="_blank" href="http://www.meltingpot.com">The Melting Pot</a></font></font></div></li><li><div align="left"><font face="Times New Roman" color="#000080"><font size="2"><a target="_blank" href="http://www.maggianos.com">Maggiano&rsquo\;s Little Italy</a></font></font></div></li><li><div align="left"><font face="Times New Roman" color="#000080"><font size="2"><a target="_blank" href="http://www.rmcf.com/OH/Lyndhurst50763/">Rocky Mountain Chocolate Factory</a></font></font></div></li><li><div align="left"><font face="Times New Roman" color="#000080"><font size="2"><a target="_blank" href="http://www.cameronmitchell.com">Mitchell&rsquo\;s Fish Market</a></font></font></div></li><li><div align="left"><font face="Times New Roman" color="#000080"><font size="2"><a target="_blank" href="http://www.costco.com">Costco</a></font></font></div></li><li><div align="left"><font face="Times New Roman" color="#000080"><font size="2"><a target="_blank" href="http://www.cariboucoffee.com">Caribou Coffee at La Place</a></font></font></div></li><li><div align="left"><font face="Times New Roman" color="#000080"><font size="2"><a href="http://www.ytr.com">Yours Truly</a></font></font></div></li><li><div align="left"><font face="Times New Roman" color="#000080"><font size="2"><a target="_blank" href="http://www.giovanniscleveland.com">Ristorante Giovannis</a><br /></font><em><font face="Times New Roman" color="#000080" size="3">And more!</font></em></font></div></li></ul><div><font face="Times New Roman" color="#000080"><font face="Times New Roman" color="#000080"><p align="left"><font face="Times New Roman" color="#333399" size="2"><em>Cash Bar -- Adult Only Event<br /></em></font><font face="Times New Roman" color="#333399" size="2"><em>Reservations are required.&nbsp\; Cost is $25 per person<br />Limited tickets available -- Only 250 reservations accepted.<br />Online reservations available.</em></font></p><p align="left"><font face="Arial" color="#000080" size="2">For businesses that would like to advertise or provide a discount coupon in our Directory given to all attendees\, please call the Chamber at 216-831-0003 or <a target="_blank" href="https://secure.chambermaster.com/FCKeditor/UserFiles/chambers/368/File/Ad Price Sheet.pdf"><font color="#800000">click here</font></a> to download the order form/price sheet.&nbsp\;</font></p></font></font></div>
LOCATION:Embassy Suites3775 Park East DriveBeachwood
UID:e.368.66
SEQUENCE:3
DTSTAMP:20260424T032653Z
URL:https://public.beachwood.org/events/details/taste-of-beachwood-09-21-2008-66
END:VEVENT

END:VCALENDAR
