BEGIN:VCALENDAR
VERSION:2.0
PRODID:-//ChamberMaster//Event Calendar 2.0//EN
METHOD:PUBLISH
X-PUBLISHED-TTL:P3D
REFRESH-INTERVAL:P3D
CALSCALE:GREGORIAN
BEGIN:VEVENT
DTSTART:20140921T140000Z
DTEND:20140921T151500Z
X-MICROSOFT-CDO-ALLDAYEVENT:FALSE
SUMMARY:Suburban Temple High Holy Day Scavenger Hunt!
DESCRIPTION:Suburban Temple-Kol Ami invites families with 0-4 year olds to a Shoresh High Holiday Scavenger Hunt and snack!
X-ALT-DESC;FMTTYPE=text/html:Suburban Temple-Kol Ami invites families with 0-4 year olds to a Shoresh High Holiday Scavenger Hunt and snack!<br />\n&nbsp\;
LOCATION:Beachwood Playground\, Fairmount Blvd.\, next to aquatic center
UID:e.368.1172
SEQUENCE:3
DTSTAMP:20260420T030724Z
URL:https://public.beachwood.org/events/details/suburban-temple-high-holy-day-scavenger-hunt-09-21-2014-1172
END:VEVENT

END:VCALENDAR
