BEGIN:VCALENDAR
VERSION:2.0
PRODID:-//ChamberMaster//Event Calendar 2.0//EN
METHOD:PUBLISH
X-PUBLISHED-TTL:P3D
REFRESH-INTERVAL:P3D
CALSCALE:GREGORIAN
BEGIN:VEVENT
DTSTART:20150709T133000Z
DTEND:20150709T150000Z
X-MICROSOFT-CDO-ALLDAYEVENT:FALSE
SUMMARY:Suburban Temple Drop In & Play!
DESCRIPTION:All 0-2 year-olds and their parents are invited to come take a DIP (Drop In & Play!) in to Judaism this summer. Join us at Suburban Temple-Kol Ami as we have fun indoors and outside with Jewish stories\, games\, music\, snacks and more!\n\nDIP will be held Thursdays\, July 9 through August 27\, 9:30-11 am\n\nThere is NO COST to DIP!\n\nFor more information\, please email jill@suburbantemple.org or call 216-991-0700.
X-ALT-DESC;FMTTYPE=text/html:<p><span style="color:rgb(0\, 0\, 205)"><span style="font-family:comic sans ms"><span style="font-size:10.5pt">All 0-2 year-olds and their parents are invited to come take a DIP (Drop In &amp\; Play!) in to Judaism this summer. Join us at Suburban Temple-Kol Ami as we have fun indoors and outside with Jewish stories\, games\, music\, snacks and more!</span></span></span></p>\n\n<p><span style="color:rgb(0\, 0\, 205)"><span style="font-family:comic sans ms"><span style="font-size:10.5pt">DIP will be held Thursdays\, July 9 through August 27\, 9:30-11 am</span></span></span></p>\n\n<p><span style="color:rgb(0\, 0\, 205)"><span style="font-family:comic sans ms"><span style="font-size:10.5pt">There is NO COST to DIP!</span></span></span></p>\n\n<p><span style="font-family:comic sans ms"><span style="font-size:10.5pt"><span style="color:rgb(0\, 0\, 205)">For more information\, please email </span><a href="mailto:jill@suburbantemple.org"><span style="color:rgb(0\, 0\, 205)">jill@suburbantemple.org</span></a><span style="color:rgb(0\, 0\, 205)"> or call 216-991-0700.</span></span></span></p>\n\n<p>&nbsp\;</p>\n
LOCATION:Suburban Temple-Kol Ami 22401 Chagrin Blvd. Beachwood\, OH 44122
UID:e.368.3762
SEQUENCE:3
DTSTAMP:20260419T225947Z
URL:https://public.beachwood.org/events/details/suburban-temple-drop-in-play-07-09-2015-3762
END:VEVENT

END:VCALENDAR
